BEGIN:VCALENDAR
VERSION:2.0
PRODID:-//meetXR - ECPv5.8.0//NONSGML v1.0//EN
CALSCALE:GREGORIAN
METHOD:PUBLISH
X-WR-CALNAME:meetXR
X-ORIGINAL-URL:https://www.meetxr.de
X-WR-CALDESC:Veranstaltungen für meetXR
BEGIN:VTIMEZONE
TZID:Europe/Berlin
BEGIN:DAYLIGHT
TZOFFSETFROM:+0100
TZOFFSETTO:+0200
TZNAME:CEST
DTSTART:20190331T010000
END:DAYLIGHT
BEGIN:STANDARD
TZOFFSETFROM:+0200
TZOFFSETTO:+0100
TZNAME:CET
DTSTART:20191027T010000
END:STANDARD
END:VTIMEZONE
BEGIN:VEVENT
DTSTART;TZID=Europe/Berlin:20191128T130000
DTEND;TZID=Europe/Berlin:20191201T190000
DTSTAMP:20260426T035848
CREATED:20191112T111522Z
LAST-MODIFIED:20191112T112131Z
UID:2145-1574946000-1575226800@www.meetxr.de
SUMMARY:Zero Latitude | Armin Keplinger
DESCRIPTION:ZERO LATITUDE – Armin Keplinger\nOPENING: November 28\, 1-6pm\nOPENING RECEPTION: November 28\, 6-9pm; complimentary drinks kindly provided by BrewDog\nEXHIBITION DATES: November 28 – December 1\, 1-7pm \nZERO LATITUDE premieres a new body of artworks by Armin Keplinger\, including the VR-installation ‚ms-R‘ alongside kinetic and live-triggered sound sculptures. \nWhile melting together digital and analogue\, the show investigates different states of void and infinity\, the collapse of unstable conditions – and their tipping point – as well as ever-changing sculptures over time. \nFramed around these key themes there is Keplinger’s latest fatigue in VR ‚ms-R‘\, featuring a moon-sliced ring with zero latitude. As the ring moves slowly in circle around the participant’s view with subtle light and movements\, ‚ms-R‘ aims to send the viewer in a journey to black-end spaces. \nThe exhibition is curated by George Vitale. \nBig thanks to Grover for the ongoing support. \nARMIN KEPLINGER (b. 1982\, AUT\, www.arminkeplinger.com) is an artist with focus on digital image creation and state of art CGI techniques. In his practice\, Keplinger explores the interaction between digital and physical spaces as well as the split between different stages of time. His video artworks\, sculptures and installations have been exhibited at Winzavod Moscow Contemporary Art Center\, Opera National de Paris\, Saatchi Gallery and Hessel Museum of Art among other ones. \nSYNTHESIS GALLERY\, the first VR art gallery\, is an immersive blend of technology and art displayed under one roof\, showcasing cutting-edge experiences by new wave artists and visionaries through virtual reality. Founded in New York in October 2017 by George Vitale\, the gallery opened his doors to the public in April 2018 in Berlin. synthesis’ shows have been regularly selected and recommended by Berlin Art Week and participated in art festivals such as Transmediale/Vorspiel and Retune. Pieces are displayed through different media. Tangible and traditional art forms intermingle with Oculus and Vive headsets. Dedicated to exhibiting internationally renowned\, well-established artists alongside emerging ones\, since its inception\, synthesis has garnered considerable attention in the art scene.
URL:https://www.meetxr.de/event/zero-latitude-armin-keplinger/
LOCATION:Synthesis Gallery\, Reuterstrasse 62\, Berlin\, 12047\, Deutschland
CATEGORIES:play
ATTACH;FMTTYPE=image/jpeg:https://www.meetxr.de/wp-content/uploads/2019/11/2019-11-28_ZeroLattitude.jpg
END:VEVENT
END:VCALENDAR