BEGIN:VCALENDAR
VERSION:2.0
PRODID:-//meetXR - ECPv5.8.0//NONSGML v1.0//EN
CALSCALE:GREGORIAN
METHOD:PUBLISH
X-WR-CALNAME:meetXR
X-ORIGINAL-URL:https://www.meetxr.de
X-WR-CALDESC:Veranstaltungen für meetXR
BEGIN:VTIMEZONE
TZID:Europe/Berlin
BEGIN:DAYLIGHT
TZOFFSETFROM:+0100
TZOFFSETTO:+0200
TZNAME:CEST
DTSTART:20190331T010000
END:DAYLIGHT
BEGIN:STANDARD
TZOFFSETFROM:+0200
TZOFFSETTO:+0100
TZNAME:CET
DTSTART:20191027T010000
END:STANDARD
END:VTIMEZONE
BEGIN:VEVENT
DTSTART;TZID=Europe/Berlin:20190903T183000
DTEND;TZID=Europe/Berlin:20190903T213000
DTSTAMP:20260425T200947
CREATED:20190822T170930Z
LAST-MODIFIED:20190822T170930Z
UID:1865-1567535400-1567546200@www.meetxr.de
SUMMARY:young+restless »Mixed Realities«
DESCRIPTION:Übergänge zwischen »reiner Realität« und »reiner Virtualität« werden Alltag\nIm digitalen Zeitalter wird es Normalität\, wenn wir uns nahezu ständig in einer erweiterten Realität bewegen. Nach Virtual Reality wird die Wirklichkeit um virtuelle Informationen angereichert. »Mixed reality« bezeichnet nicht nur die technischen Vorgänge zwischen »reiner Realität« und »reiner Virtualität« sondern öffnet auch die Debatte für philosophische\, künstlerische und psychologische Fragen. Die erweiterte Realität wird zur Realität der Zukunft. \nMixed Reality macht aus\, dass Objekte und Subjekte der realen und virtuellen Welt auch miteinander interagieren können. Virtual Reality visualisiert nur virtuelle Objekte\, die reale Welt existiert nicht. Im Gegensatz dazu bedeutet Augmented Reality\, dass virtuelle Objekte über die reale Welt projiziert werden. Allerdings können künstliche Objekte nicht mit Objekten der realen Welt interagieren. \nMixed Reality erreicht die Welt der industriellen Fertigung und wird die Zukunft der Mobiliät prägen. Nachdem der Begriff erstmals 1994 eingeführt wurde\, verblasste er in den Hypes von Virtual und Augmented Reality. Mit Windows 10 hat Microsoft eine Renaissance des Begriffs befördert und ruft den Konsumenten zu: »Tauchen Sie ein in eine neue Realität«. \nWir wollen mit Startups und Corporates über die Zukunft vermischter Realitäten kommen. \nyoung+restless ist das Netzwerktreffen für Young Professionals aus dem politischen Berlin\, der Startup-Szene\, der Medienwelt sowie der Kreativwirtschaft.\nDas Format ist eine Mischung aus Impulsen\, Themen (als round-Table-Gespräche und -Präsentationen organisiert) sowie Networking. \nyoung+restless Impulse\, Themen & Netzwerke\nDienstag\, 3. September ab 18.30 Uhr\nBASECAMP\, Mittelstraße 51-53\, 10117 Berlin \nWie ist young+restless?\nLorenz Maroldt – Chefredakteur vom Tagesspiegel und Herausgeber des (werk)täglichen Newsletters CHECKPOINT – gibt im Video ein paar Antworten. https://www.youtube.com/watch?v=7yno8qtv3FQ
URL:https://www.meetxr.de/event/youngrestless-mixed-realities/
LOCATION:BASECAMP\, Mittelstraße 51-53\, Berlin\, 10117\, Deutschland
CATEGORIES:talk
ATTACH;FMTTYPE=image/jpeg:https://www.meetxr.de/wp-content/uploads/2019/08/2019-09-03_youngandrestless.jpg
END:VEVENT
END:VCALENDAR