BEGIN:VCALENDAR
VERSION:2.0
PRODID:-//meetXR - ECPv5.8.0//NONSGML v1.0//EN
CALSCALE:GREGORIAN
METHOD:PUBLISH
X-WR-CALNAME:meetXR
X-ORIGINAL-URL:https://www.meetxr.de
X-WR-CALDESC:Veranstaltungen für meetXR
BEGIN:VTIMEZONE
TZID:Europe/Berlin
BEGIN:DAYLIGHT
TZOFFSETFROM:+0100
TZOFFSETTO:+0200
TZNAME:CEST
DTSTART:20200329T010000
END:DAYLIGHT
BEGIN:STANDARD
TZOFFSETFROM:+0200
TZOFFSETTO:+0100
TZNAME:CET
DTSTART:20201025T010000
END:STANDARD
END:VTIMEZONE
BEGIN:VEVENT
DTSTART;TZID=Europe/Berlin:20200506T170000
DTEND;TZID=Europe/Berlin:20200506T183000
DTSTAMP:20260425T201844
CREATED:20200519T145301Z
LAST-MODIFIED:20200519T145425Z
UID:2571-1588784400-1588789800@www.meetxr.de
SUMMARY:XRtalks – XR in Industry 4.0 / Smart Manufacturing Benjamin Ulsamer
DESCRIPTION:Kurzbeschreibung:\nWelche Vorteile bietet Augmented Reality in der Produktion? Wir schlagen den Bogen von der Wissenschaft zu konkreten Anwendungen in der Pharmazie und im Bauwesen. \nZielgruppe:\nUnternehmen\, die die Potentiale von AR im Produktionsprozess kennenlernen wollen \nOrt:\nOnline Vortrag und Diskussion in Zoom\nhttps://us02web.zoom.us/webinar/register/WN_zA8dQLdNRViNSF-40Atrcw \nTermin:\nMittwoch\, 06.05.2020\, 17.00 – 18.30 Uhr \nAgenda:\nEine Mischung aus Vorträgen und Diskussion führt in das Thema XR in der Produktion ein. \nTeil 1: Vorträge \n„AR im industriellen Produktionsprozess“\nProf. Gudrun Klinker\, Head of FAR (Forschungsgruppe Augmented Reality)\, Lehrstuhl für Informatikanwendungen in der Medizin & Augmented Reality\, TUM \n“Digitale Transformation in der regulierten Industrie. AR in komplexen industriellen Prozessen”\nDr. Elena Mercep\, goodly\, Grünwald/München \n„Das Bauwesen als Nachzügler und Vorreiter – Handskizzen und XR“\nFabian Schmid\, seele holding GmbH\, Gersthofen \nTeil 2: Diskussion \nModeration: Wolfgang Kerler\, 1E9 Denkfabrik \nJetzt hier für das kostenfreie Online-Webinar registrieren:\nhttps://us02web.zoom.us/webinar/register/WN_zA8dQLdNRViNSF-40Atrcw \nWir freuen uns auf viele Registrierungen & Teilnehmer*innen! \nÜber den XR HUB Bavaria:\nDer XR HUB Bavaria ist das XR-Kontakt-Netzwerk in Bayern mit dem Ziel\, den Austausch\, die Sichtbarkeit und den Marktzugang von XR-Unternehmen zu unterstützen sowie XR-Technologie und Inhalte Unternehmen und anderen interessierten Anwendern\, wie z.B. Schulen\, Bildungs- und Kultureinrichtungen\, zugänglich zu machen. \nHier ist der XR HUB Bavaria online zu finden:\nhttp://xrhub-bavaria.de/\nhttps://www.facebook.com/xrhubbavaria/\nhttps://twitter.com/XRHUB_Bavaria\nhttps://www.instagram.com/xrhub_bavaria/ \nHier ist 1E9 online zu finden:\nhttps://1e9.community\nhttps://www.linkedin.com/company/1e9-technology-empowers-humanity/\nhttps://www.facebook.com/1E9tech/ \nHier sind unsere Speaker*innen zu finden: \nLehrstuhl für Informatikanwendungen in der Medizin & Augmented Reality\nhttp://campar.in.tum.de/WebHome \nGoodly\nhttps://www.goodly-innovations.com \nseele\nhttps://seele.com/de/ \nHier ist der XR HUB Nürnberg online zu finden:\nhttp://xrhub-nue.de\nhttps://www.linkedin.com/company/xrhubnue/\nhttps://www.xing.com/companies/xrhubn%C3%BCrnberg\nhttps://twitter.com/xrhubnue\nhttps://www.facebook.com/xrhubnue\nhttps://www.instagram.com/xrhubnue/ \n#xrhubbavaria #xrhubnue #xrnue #xrhubnürnberg #nürnberg #nik #niknue #augmentedreality #ar #virtualreality #vr #mixedreality #mr #extendedreality #xr
URL:https://www.meetxr.de/event/xrtalks-xr-in-industry-4-0-smart-manufacturing-benjamin-ulsamer/
LOCATION:Zoom Meeting\, Zoom
CATEGORIES:talk
ATTACH;FMTTYPE=image/png:https://www.meetxr.de/wp-content/uploads/2020/05/2020-05-06_XRTalks.png
ORGANIZER;CN="Virtual%20Germany":MAILTO:https://www.meetup.com/de-DE/Virtual-Reality-Germany/
END:VEVENT
END:VCALENDAR