BEGIN:VCALENDAR
VERSION:2.0
PRODID:-//meetXR - ECPv5.8.0//NONSGML v1.0//EN
CALSCALE:GREGORIAN
METHOD:PUBLISH
X-WR-CALNAME:meetXR
X-ORIGINAL-URL:https://www.meetxr.de
X-WR-CALDESC:Veranstaltungen für meetXR
BEGIN:VTIMEZONE
TZID:Europe/Berlin
BEGIN:DAYLIGHT
TZOFFSETFROM:+0100
TZOFFSETTO:+0200
TZNAME:CEST
DTSTART:20210328T010000
END:DAYLIGHT
BEGIN:STANDARD
TZOFFSETFROM:+0200
TZOFFSETTO:+0100
TZNAME:CET
DTSTART:20211031T010000
END:STANDARD
END:VTIMEZONE
BEGIN:VEVENT
DTSTART;TZID=Europe/Berlin:20211112T090000
DTEND;TZID=Europe/Berlin:20211112T180000
DTSTAMP:20260425T212838
CREATED:20210527T084317Z
LAST-MODIFIED:20230609T071811Z
UID:3086-1636707600-1636740000@www.meetxr.de
SUMMARY:XRcon 2021
DESCRIPTION:We love to connect virtual and real worlds\, share knowledge about XR and meet professionals as well as enthusiasts! In November 2021 we are going to present our very first nextReality.Conference\, the XRcon. \nExperience insightful talks\, key sessions and panel discussions. We cover the topics of virtual and augmented reality from the academic and tech world to the business world with relevant use cases. Enjoy the XRcon completely online no matter if you are a professional\, member of a start-up or company\, student or just interested in XR. \nThe XRcon will take place completely online on the platform Bizzlogic. You can move around with your avatar\, talk to other attendees and listen to the talks. All you need is a PC or Mac and a browser. \nSpeakers\, program and registration: https://xrcon.de/
URL:https://www.meetxr.de/event/xrcon-2021/
LOCATION:Online Event\, online
CATEGORIES:talk
ATTACH;FMTTYPE=image/jpeg:https://www.meetxr.de/wp-content/uploads/2021/05/Evengrafik_XRcon_FullHD.jpg
END:VEVENT
END:VCALENDAR