BEGIN:VCALENDAR
VERSION:2.0
PRODID:-//meetXR - ECPv5.8.0//NONSGML v1.0//EN
CALSCALE:GREGORIAN
METHOD:PUBLISH
X-WR-CALNAME:meetXR
X-ORIGINAL-URL:https://www.meetxr.de
X-WR-CALDESC:Veranstaltungen für meetXR
BEGIN:VTIMEZONE
TZID:Europe/Berlin
BEGIN:DAYLIGHT
TZOFFSETFROM:+0100
TZOFFSETTO:+0200
TZNAME:CEST
DTSTART:20200329T010000
END:DAYLIGHT
BEGIN:STANDARD
TZOFFSETFROM:+0200
TZOFFSETTO:+0100
TZNAME:CET
DTSTART:20201025T010000
END:STANDARD
END:VTIMEZONE
BEGIN:VEVENT
DTSTART;TZID=Europe/Berlin:20200422T150000
DTEND;TZID=Europe/Berlin:20200422T170000
DTSTAMP:20260425T183336
CREATED:20200415T120551Z
LAST-MODIFIED:20200415T120551Z
UID:2533-1587567600-1587574800@www.meetxr.de
SUMMARY:XRBASE Investor Event
DESCRIPTION:XRBASE Investor Event\nVR and desktop\nThe XRBASE Investor Event returns for a 4th ‚VR pilot‘ edition at Laval Virtual World\, for the first time fully online and in Virtual Reality. \nTogether with HTC Vive X and Laval Virtual we aim to connect startups with VCs in a new way and on new platforms\, and collaboratively learn from the experience while making valuable connections. \nSelected startups are invited to each pitch three minutes in front of a panel of expert VCs and the online audience during the public pitch event. \nApril 22nd\, 2020\n#FeelTheVirtualForce\nA panel on the impact of the current crisis on our emerging XR industry and the VC model will be hosted by Daan Kip of XRBASE and Dave Haynes of HTC Vive X. \nWe will facilitate private one-to-one meetings between selected startups and participating VCs and decision makers\, and host a social mixer to continue conversations. \nGiven the pilot nature of this edition of the investor event we will not have a specific theme or topic so all XR startups are invited to apply.
URL:https://www.meetxr.de/event/xrbase-investor-event/
LOCATION:ENGAGE\, ENGAGE
CATEGORIES:talk
ATTACH;FMTTYPE=image/jpeg:https://www.meetxr.de/wp-content/uploads/2020/04/2020-04-22_XRBaseInvestorEvent.jpg
END:VEVENT
END:VCALENDAR