BEGIN:VCALENDAR
VERSION:2.0
PRODID:-//meetXR - ECPv5.8.0//NONSGML v1.0//EN
CALSCALE:GREGORIAN
METHOD:PUBLISH
X-WR-CALNAME:meetXR
X-ORIGINAL-URL:https://www.meetxr.de
X-WR-CALDESC:Veranstaltungen für meetXR
BEGIN:VTIMEZONE
TZID:Europe/Berlin
BEGIN:DAYLIGHT
TZOFFSETFROM:+0100
TZOFFSETTO:+0200
TZNAME:CEST
DTSTART:20220327T010000
END:DAYLIGHT
BEGIN:STANDARD
TZOFFSETFROM:+0200
TZOFFSETTO:+0100
TZNAME:CET
DTSTART:20221030T010000
END:STANDARD
END:VTIMEZONE
BEGIN:VEVENT
DTSTART;TZID=Europe/Berlin:20220112T173000
DTEND;TZID=Europe/Berlin:20220112T190000
DTSTAMP:20260425T173325
CREATED:20210921T154344Z
LAST-MODIFIED:20220114T133633Z
UID:3481-1642008600-1642014000@www.meetxr.de
SUMMARY:XR Women Wednesday – Connection is good for the soul
DESCRIPTION:Join us next Wednesday\, January 12th\, as we welcome the return of XR Women Wednesday events for 2022. We are kicking off the new year with a networking session. See flyer for details. \nVisit https://xrwomen.com/attend to learn how to join us in iLRN Virtual Campus by immersive Learning Research Network powered by Virbela.
URL:https://www.meetxr.de/event/xr-women-wednesday-connection-is-good-for-the-soul/
LOCATION:iLRN Virtual Campus\, iLRN Virtual Campus
CATEGORIES:talk
ATTACH;FMTTYPE=image/jpeg:https://www.meetxr.de/wp-content/uploads/2021/09/2022-01-12_Connection.jpeg
END:VEVENT
END:VCALENDAR