BEGIN:VCALENDAR
VERSION:2.0
PRODID:-//meetXR - ECPv5.8.0//NONSGML v1.0//EN
CALSCALE:GREGORIAN
METHOD:PUBLISH
X-WR-CALNAME:meetXR
X-ORIGINAL-URL:https://www.meetxr.de
X-WR-CALDESC:Veranstaltungen für meetXR
BEGIN:VTIMEZONE
TZID:Europe/Berlin
BEGIN:DAYLIGHT
TZOFFSETFROM:+0100
TZOFFSETTO:+0200
TZNAME:CEST
DTSTART:20220327T010000
END:DAYLIGHT
BEGIN:STANDARD
TZOFFSETFROM:+0200
TZOFFSETTO:+0100
TZNAME:CET
DTSTART:20221030T010000
END:STANDARD
END:VTIMEZONE
BEGIN:VEVENT
DTSTART;TZID=Europe/Berlin:20220126T173000
DTEND;TZID=Europe/Berlin:20220126T190000
DTSTAMP:20260425T183512
CREATED:20210921T154344Z
LAST-MODIFIED:20220126T095653Z
UID:3510-1643218200-1643223600@www.meetxr.de
SUMMARY:XR Women Wednesday – Cleanbox: An Origin Story
DESCRIPTION:Next week on January 26th\, we have Amy Hedrick on deck to share the Cleanbox story and how it all came about. Location: iLRN’s Virbela campus – XR Women Hall at 11:30am EDT. \nVisit https://xrwomen.com/attend to learn how to join us in iLRN Virtual Campus by immersive Learning Research Network powered by Virbela.
URL:https://www.meetxr.de/event/xr-women-wednesday-cleanbox-an-origin-story/
LOCATION:iLRN Virtual Campus\, iLRN Virtual Campus
CATEGORIES:talk
ATTACH;FMTTYPE=image/jpeg:https://www.meetxr.de/wp-content/uploads/2021/09/2022-01-26_XRWomenWednesday.jpg
END:VEVENT
END:VCALENDAR