BEGIN:VCALENDAR
VERSION:2.0
PRODID:-//meetXR - ECPv5.8.0//NONSGML v1.0//EN
CALSCALE:GREGORIAN
METHOD:PUBLISH
X-WR-CALNAME:meetXR
X-ORIGINAL-URL:https://www.meetxr.de
X-WR-CALDESC:Veranstaltungen für meetXR
BEGIN:VTIMEZONE
TZID:Europe/Berlin
BEGIN:DAYLIGHT
TZOFFSETFROM:+0100
TZOFFSETTO:+0200
TZNAME:CEST
DTSTART:20210328T010000
END:DAYLIGHT
BEGIN:STANDARD
TZOFFSETFROM:+0200
TZOFFSETTO:+0100
TZNAME:CET
DTSTART:20211031T010000
END:STANDARD
END:VTIMEZONE
BEGIN:VEVENT
DTSTART;TZID=Europe/Berlin:20210606T180000
DTEND;TZID=Europe/Berlin:20210606T200000
DTSTAMP:20260425T235225
CREATED:20210611T115516Z
LAST-MODIFIED:20210611T115516Z
UID:3115-1623002400-1623009600@www.meetxr.de
SUMMARY:XR Vienna Get Together in Altspace
DESCRIPTION:Hey XRVienna Troopers\, \nLet’s meet in AltspaceVR and share what we’ve all been working on and re-connect. \nIf you have announcements you’d like to make or just want to see what the community members are up to\, then feel free to join on your computer or on your VR headset. \nIf you need to install on your computer\, follow this link – https://altvr.com/get-altspacevr-2dmode/
URL:https://www.meetxr.de/event/xr-vienna-get-together-in-altspace/
CATEGORIES:talk
ATTACH;FMTTYPE=image/jpeg:https://www.meetxr.de/wp-content/uploads/2021/06/2021-06-06_XRVienna.jpg
END:VEVENT
END:VCALENDAR