BEGIN:VCALENDAR
VERSION:2.0
PRODID:-//meetXR - ECPv5.8.0//NONSGML v1.0//EN
CALSCALE:GREGORIAN
METHOD:PUBLISH
X-WR-CALNAME:meetXR
X-ORIGINAL-URL:https://www.meetxr.de
X-WR-CALDESC:Veranstaltungen für meetXR
BEGIN:VTIMEZONE
TZID:Europe/Berlin
BEGIN:DAYLIGHT
TZOFFSETFROM:+0100
TZOFFSETTO:+0200
TZNAME:CEST
DTSTART:20200329T010000
END:DAYLIGHT
BEGIN:STANDARD
TZOFFSETFROM:+0200
TZOFFSETTO:+0100
TZNAME:CET
DTSTART:20201025T010000
END:STANDARD
END:VTIMEZONE
BEGIN:VEVENT
DTSTART;TZID=Europe/Berlin:20201001T170000
DTEND;TZID=Europe/Berlin:20201001T190000
DTSTAMP:20260425T213120
CREATED:20200727T121156Z
LAST-MODIFIED:20200727T121156Z
UID:2685-1601571600-1601578800@www.meetxr.de
SUMMARY:XR Sailing: Ein Abend auf hoher See - VR Training
DESCRIPTION:Ein MeetUp Event mit Schwerpunkt “ Virtuelles Segeln“. Wir stellen drei besondere Projekte und ihre Macher vor.\nGastgeber ist Christian Felder. XRB Clusterlead.
URL:https://www.meetxr.de/event/xr-sailing-ein-abend-auf-hoher-see-vr-training/
LOCATION:Online Event\, online
CATEGORIES:talk
ATTACH;FMTTYPE=image/jpeg:https://www.meetxr.de/wp-content/uploads/2020/07/2020-10-01_VirtualSailing.jpeg
END:VEVENT
END:VCALENDAR