BEGIN:VCALENDAR
VERSION:2.0
PRODID:-//meetXR - ECPv5.8.0//NONSGML v1.0//EN
CALSCALE:GREGORIAN
METHOD:PUBLISH
X-WR-CALNAME:meetXR
X-ORIGINAL-URL:https://www.meetxr.de
X-WR-CALDESC:Veranstaltungen für meetXR
BEGIN:VTIMEZONE
TZID:Europe/Berlin
BEGIN:DAYLIGHT
TZOFFSETFROM:+0100
TZOFFSETTO:+0200
TZNAME:CEST
DTSTART:20200329T010000
END:DAYLIGHT
BEGIN:STANDARD
TZOFFSETFROM:+0200
TZOFFSETTO:+0100
TZNAME:CET
DTSTART:20201025T010000
END:STANDARD
END:VTIMEZONE
BEGIN:VEVENT
DTSTART;TZID=Europe/Berlin:20200507T180000
DTEND;TZID=Europe/Berlin:20200507T200000
DTSTAMP:20260425T172945
CREATED:20200331T132646Z
LAST-MODIFIED:20200420T153719Z
UID:2546-1588874400-1588881600@www.meetxr.de
SUMMARY:XR Developer Stammtisch #07
DESCRIPTION:Willkommen zu unserem wöchentlichen XR Developer Stammtisch. Hier treffen sich Entwickler:innen aus den Bereichen Virtual Reality\, Augmented Reality\, 360° Video und alles was dazwischen und darüber hinaus passiert. Wir wollen uns ganz entspannt kennenlernen und uns über aktuelle Trends und eigene Projekte austauschen. Bei uns ist jede:r willkommen\, egal ob Anfänger:in oder Profi. \nDa wir uns aktuell nicht wie sonst im realen Hamburg treffen können\, findet unser Stammtisch in der virtuellen Welt von AltspaceVR statt. Daher gilt leider und untypisch für unsere Events: Bring your own Beer! \nWir freuen uns sehr euch virtuell zu sehen\,\neuer Team von nextReality.Hamburg \n\nDie Teilnahme ist ganz einfach! Hier sind die wichtigsten Schritte: \nZunächst benötigt ihr einen AltspaceVR Account. Falls ihr noch keinen habt\, könnt ihr den hier einrichten:\nhttps://account.altvr.com/users/sign_up \nDas wunderbare an AltspaceVR ist\, dass es für alle gängigen VR-Systeme zur Verfügung steht. Die jeweiligen Clients findet ihr hier:\nhttps://altvr.com/get-altspacevr/ \nNoch schöner: AltspaceVR setzt nicht zwingend eine VR-Brille voraus\, sondern kann auch am Bildschirm erlebt werden. Den 2D-Clienten für Windows findet ihr hier:\nhttps://account.altvr.com/downloads \nAlles\, was ihr dann noch tun müsst\, ist den Link zu unseren Event zu folgen und auf „Interested“ zu klicken. So findet ihr das Event in VR oder im 2D-Modus schnell wieder:\nhttps://account.altvr.com/events/1451609263934800630
URL:https://www.meetxr.de/event/xr-developer-stammtisch-07/
LOCATION:AltspaceVR\, AltspaceVR
CATEGORIES:talk
ATTACH;FMTTYPE=image/jpeg:https://www.meetxr.de/wp-content/uploads/2020/03/XRDevStammtisch-07_FullHD.jpg
END:VEVENT
END:VCALENDAR