BEGIN:VCALENDAR
VERSION:2.0
PRODID:-//meetXR - ECPv5.8.0//NONSGML v1.0//EN
CALSCALE:GREGORIAN
METHOD:PUBLISH
X-WR-CALNAME:meetXR
X-ORIGINAL-URL:https://www.meetxr.de
X-WR-CALDESC:Veranstaltungen für meetXR
BEGIN:VTIMEZONE
TZID:Europe/Berlin
BEGIN:DAYLIGHT
TZOFFSETFROM:+0100
TZOFFSETTO:+0200
TZNAME:CEST
DTSTART:20210328T010000
END:DAYLIGHT
BEGIN:STANDARD
TZOFFSETFROM:+0200
TZOFFSETTO:+0100
TZNAME:CET
DTSTART:20211031T010000
END:STANDARD
END:VTIMEZONE
BEGIN:VEVENT
DTSTART;TZID=Europe/Berlin:20210714T100000
DTEND;TZID=Europe/Berlin:20210715T130000
DTSTAMP:20260425T201532
CREATED:20210709T130307Z
LAST-MODIFIED:20210709T130307Z
UID:3141-1626256800-1626354000@www.meetxr.de
SUMMARY:XR DAYS Nürnberg
DESCRIPTION:Immersion statt Fiktion! Wir zeigen\, welches Erlebnis XR ausmacht und wie wir in Zukunft davon profitieren. Regionale Unternehmen präsentieren\, wie sie das Innovationsgeschehen aktiv mitgestalten. \nDie virtuelle Welt kommt immer näher. Wir nutzen die Technologien oftmals bereits im Alltag – ohne dass wir uns dessen bewusst sind. Möbelhäuser\, Küchenplaner oder Badausstatter bieten uns Apps an\, mit denen wir unsere zukünftige Einrichtung zu Hause platzieren können. Die Videofilter im Zoom-Call oder Hasenohren bei Instagram\, all das ist Extended Reality (XR). \nWährend wir uns im Alltag spielerisch an die Möglichkeiten von AR (Augmented Reality) und VR (Virtual Reality) herantasten\, revolutionieren die immersiven Technologien bereits bedeutende Wirtschaftsbereiche wie die Industrie oder das Gesundheitswesen. In den Bereichen Lehre\, Fortbildung\, Fertigung und Wartung hat man heute bereits die Möglichkeit\, Prozesse zu testen\, Gefahrensituationen zu simulieren\, ortsunabhängig zu agieren und Zusatzinformationen zur Verfügung zu stellen. Mit XR-Technologien können so Fehler minimiert und Kosten gespart werden. \nAuf den XR DAYS Nürnberg präsentiert der XR HUB Nürnberg\, was das besondere Erlebnis hinter den Technologien ausmacht\, gibt einen Ausblick darauf\, wohin uns die ungeahnten Potenziale von XR in naher und ferner Zukunft bringen und zeigt\, welche Unternehmen aus der Metropolregion Nürnberg das Innovationsgeschehen rund um XR aktiv mitgestalten. \nAgenda Tag 1 – 14. Juli 2021\n10.00 – 10.15 – Eröffnung\, Grußwort & Begrüßung\nJudith Gerlach\, MdL (Videobotschaft)\nDr. Michael Fraas\, Wirtschafts- und Wissenschaftsreferent der Stadt Nürnberg\nInci Strauß\, Geschäftsführerin\, NIK  | NETZWERK DER DIGITALWIRTSCHAFT\nJulia Wittmann\, Projektmanagerin\, XR HUB Nürnberg \n10.15 – 11.00 – XR Impuls\nImmersion steigern durch Storytelling\nElle Langer\, Gründerin und XR Creative Producerin\, Pimento formate UG \n11.00 – 11.10 – PAUSE \n11.10 – 12.20 – XR PITCH 1\nUnternehmens-/Projektpitches aus dem XR-Netzwerk der Region \n12.20 – 12.25 – SEE U TOMMORROW\nResümee Tag #1 und Ausblick Tag #2 \nAgenda Tag 2 – 15. Juli 2021 \n10.00 – 10.05 – Begrüßung\nInci Strauß\, Geschäftsführerin\, NIK  | NETZWERK DER DIGITALWIRTSCHAFT\nJulia Wittmann\, Projektmanagerin\, XR HUB Nürnberg \n10.05 – 10.50 – XR Impuls\nState of XR – heute\, morgen\, übermorgen\nMatthias Bastian\, SCRIPT\, Gründer MIXED Magazin \n10.50 – 11.00 – PAUSE \n11.00 – 12.30 – XR PITCH 2\nUnternehmens-/Projektpitches aus dem XR-Netzwerk der Region \n12.10 – 12.15 – CONCLUSIO\nResümee Tag#1 und Tag #2 \nAb 12.15 – MEET & CONNECT \nDie XR Days Nürnberg finden im Rahmen des Nürnberg Digital Festivals 2021 statt. Die Teilnahme ist für beide Tage kostenfrei. \nAnmeldung – XR DAYS Nürnberg \nÜber den XR HUB Nürnberg:\nDer XR HUB Nürnberg ist das XR-Kontakt-Netzwerk der Metropolregion Nürnberg mit dem Ziel\, den Austausch\, die Sichtbarkeit und den Marktzugang der XR-Unternehmen zu unterstützen\, sowie die XR-Technologie für Unternehmen aus der Metropolregion Nürnberg zugänglich zu machen.\nhttps://xrhub-nue.de
URL:https://www.meetxr.de/event/xr-days-nuernberg/
LOCATION:Online Event\, online
CATEGORIES:talk
ATTACH;FMTTYPE=image/jpeg:https://www.meetxr.de/wp-content/uploads/2021/07/2021-07-14_XRDaysNuernberg.jpg
END:VEVENT
END:VCALENDAR