BEGIN:VCALENDAR
VERSION:2.0
PRODID:-//meetXR - ECPv5.8.0//NONSGML v1.0//EN
CALSCALE:GREGORIAN
METHOD:PUBLISH
X-WR-CALNAME:meetXR
X-ORIGINAL-URL:https://www.meetxr.de
X-WR-CALDESC:Veranstaltungen für meetXR
BEGIN:VTIMEZONE
TZID:Europe/Berlin
BEGIN:DAYLIGHT
TZOFFSETFROM:+0100
TZOFFSETTO:+0200
TZNAME:CEST
DTSTART:20210328T010000
END:DAYLIGHT
BEGIN:STANDARD
TZOFFSETFROM:+0200
TZOFFSETTO:+0100
TZNAME:CET
DTSTART:20211031T010000
END:STANDARD
END:VTIMEZONE
BEGIN:VEVENT
DTSTART;TZID=Europe/Berlin:20210506T190000
DTEND;TZID=Europe/Berlin:20210512T200000
DTSTAMP:20260425T211115
CREATED:20210505T095553Z
LAST-MODIFIED:20210505T095553Z
UID:3051-1620327600-1620849600@www.meetxr.de
SUMMARY:XR Code Jam
DESCRIPTION:Create Your Powerful XR App with ISAR SDK\nJoin our virtual XR Code Jam (06-12 May 21) and let your creativity run wild in AR app development​. Display data sets in AR\, which require a great deal of computing/graphical power and win one of three cool prizes. 😉 \nWho can participate?\nParticipation is open to all: aspiring and professional XR developers. However\, what you need is a HoloLens 2 or a Android device (API Level 26+\, 29 Target)* and Unity of course. We will provide you with an ISAR SDK\, Holo-Light’s unique remote rendering SDK. \nFeel free to team up (max. 3 members). In case you are still looking for team mates\, check out our Discord #matchmaking channel. \nHow does it work?\nOver several days you have time to build a XR app for HoloLens2. However\, you don’t necessarily need a HoloLens2 for this – you can also participate with a suitable Android device. \nRight at the beginning of our jam\, we will provide you with all the information you need about ISAR SDK. At the end of the Code Jam please hand in your HoloLens2 app. Our jury will decide on the basis of the submitted app.
URL:https://www.meetxr.de/event/xr-code-jam/
LOCATION:Online Event\, online
CATEGORIES:hack
ATTACH;FMTTYPE=image/jpeg:https://www.meetxr.de/wp-content/uploads/2021/05/2021-05-06_XRCodeJam.jpg
ORGANIZER;CN="Holo-Light":MAILTO:info@holo-light.com
END:VEVENT
END:VCALENDAR