BEGIN:VCALENDAR
VERSION:2.0
PRODID:-//meetXR - ECPv5.8.0//NONSGML v1.0//EN
CALSCALE:GREGORIAN
METHOD:PUBLISH
X-WR-CALNAME:meetXR
X-ORIGINAL-URL:https://www.meetxr.de
X-WR-CALDESC:Veranstaltungen für meetXR
BEGIN:VTIMEZONE
TZID:Europe/Berlin
BEGIN:DAYLIGHT
TZOFFSETFROM:+0100
TZOFFSETTO:+0200
TZNAME:CEST
DTSTART:20210328T010000
END:DAYLIGHT
BEGIN:STANDARD
TZOFFSETFROM:+0200
TZOFFSETTO:+0100
TZNAME:CET
DTSTART:20211031T010000
END:STANDARD
END:VTIMEZONE
BEGIN:VEVENT
DTSTART;TZID=Europe/Berlin:20210520T180000
DTEND;TZID=Europe/Berlin:20210520T210000
DTSTAMP:20260425T224624
CREATED:20210502T132018Z
LAST-MODIFIED:20210502T132018Z
UID:2987-1621533600-1621544400@www.meetxr.de
SUMMARY:XR Bavaria Meetup – State of Augmented Reality 2021
DESCRIPTION:We look into the developments in the field of Augmented Reality. What are the trends in 2021. Where do we stand with the adaptation of AR in the industrial and marketing sector? What’s is possible with WebAR these days? \nThis Meetup is hosted by Philipp A. Rauschnabel AR / XR Enthusiast &\nProfessor @ Universität der Bundeswehr München and Clarence Dadson of XR Bavaria. \nSpeakers will be: \nDr. Robert Adelmann\,\nUniversity Lecturer Augmented Reality and Product Manager at Google Stadia\nRobert has 15+ years of experience in an increasingly merging real and virtual worlds: from research at ETH Zurich and MIT to start-ups and AR projects in the industry. Currently\, he is working on the future of games and virtual worlds at Google Stadia and is a lecturer for AR\, applied AI and HCI/UX innovation at Swiss universities. www.robert-adelmann.com \nProf. Jonas Heller\nAssistant Professor at Maastricht University School of Business and\nhe is part of the global research group www.augmented-research.com\nHis research investigates how emerging digital technologies (such as Augmented Reality and Virtual Reality) impact customer experiences when consuming products or services. In particular\, his research studies how new forms of data visualization impact customer’s cognitive and affective responses and how these responses translate into behavior for financial decision-making. \nClarence Dadson\nCEO of the XR agency Design4real and Chairman of the XR Bavaria.\nHe will give an overview of the different solutions to create AR for marketing purposes.\nwww.design4real.de \nAs you might have guessed this one is going to be in English 🙂
URL:https://www.meetxr.de/event/xr-bavaria-meetup-state-of-augmented-reality-2021/
LOCATION:Online Event\, online
CATEGORIES:talk
ATTACH;FMTTYPE=image/jpeg:https://www.meetxr.de/wp-content/uploads/2021/05/2021-05-20_StateOfAR.jpeg
END:VEVENT
END:VCALENDAR