BEGIN:VCALENDAR
VERSION:2.0
PRODID:-//meetXR - ECPv5.8.0//NONSGML v1.0//EN
CALSCALE:GREGORIAN
METHOD:PUBLISH
X-WR-CALNAME:meetXR
X-ORIGINAL-URL:https://www.meetxr.de
X-WR-CALDESC:Veranstaltungen für meetXR
BEGIN:VTIMEZONE
TZID:Europe/Berlin
BEGIN:DAYLIGHT
TZOFFSETFROM:+0100
TZOFFSETTO:+0200
TZNAME:CEST
DTSTART:20210328T010000
END:DAYLIGHT
BEGIN:STANDARD
TZOFFSETFROM:+0200
TZOFFSETTO:+0100
TZNAME:CET
DTSTART:20211031T010000
END:STANDARD
END:VTIMEZONE
BEGIN:VEVENT
DTSTART;TZID=Europe/Berlin:20210218T180000
DTEND;TZID=Europe/Berlin:20210218T210000
DTSTAMP:20260425T213047
CREATED:20210111T140500Z
LAST-MODIFIED:20210119T203550Z
UID:2798-1613671200-1613682000@www.meetxr.de
SUMMARY:XR Bavaria MeetUp: Social VR\, Learnings 2020\, Ausblick neue Angebote\, Messen?
DESCRIPTION:XR Bavaria MeetUp: XR Bavaria MeetUp: Social VR\, Virtuelle Events – Learnings 2020\nDurch die Restriktionen von Covid 19 haben Virtual Reality Lösungen im Bereich Learning und Abhaltung von Veranstaltungen generell stark an Attraktivität gewonnen. Aber welche Anwendungen gibt es bereits\, was leisten sie und was sind deren Kosten. Diesen Fragen werden wir in diesem Meetup nachgehen. \nMit dabei als Speaker ist Markus Neuberger Geschäftsfeldleiter Medizin / Healthcare bei der TriCAT GmbH in Ulm. TriCat ist eine virtuelle 3D Lern- und Arbeitswelten Platform.\nhttps://www.tricat.net/\nDie Software kam z.B. bei der Shift Medical 2020 – Virtual Congress and Expo for Medical XR zum Einsatz.
URL:https://www.meetxr.de/event/xr-bavaria-meetup-social-vr-learnings-2020-ausblick-neue-angebote-messen/
LOCATION:Zoom Meeting\, Zoom
CATEGORIES:talk
ATTACH;FMTTYPE=image/jpeg:https://www.meetxr.de/wp-content/uploads/2021/01/2021-02-18_XRBavariaSocial.jpeg
END:VEVENT
END:VCALENDAR