BEGIN:VCALENDAR
VERSION:2.0
PRODID:-//meetXR - ECPv5.8.0//NONSGML v1.0//EN
CALSCALE:GREGORIAN
METHOD:PUBLISH
X-WR-CALNAME:meetXR
X-ORIGINAL-URL:https://www.meetxr.de
X-WR-CALDESC:Veranstaltungen für meetXR
BEGIN:VTIMEZONE
TZID:Europe/Berlin
BEGIN:DAYLIGHT
TZOFFSETFROM:+0100
TZOFFSETTO:+0200
TZNAME:CEST
DTSTART:20220327T010000
END:DAYLIGHT
BEGIN:STANDARD
TZOFFSETFROM:+0200
TZOFFSETTO:+0100
TZNAME:CET
DTSTART:20221030T010000
END:STANDARD
END:VTIMEZONE
BEGIN:VEVENT
DTSTART;TZID=Europe/Berlin:20220317T190000
DTEND;TZID=Europe/Berlin:20220317T220000
DTSTAMP:20260425T185107
CREATED:20220221T215218Z
LAST-MODIFIED:20220308T124957Z
UID:4551-1647543600-1647554400@www.meetxr.de
SUMMARY:XR Bavaria Meetup – Motion Capture
DESCRIPTION:This time we take a look at Motion Capture Technologies. There has been a lot of progress in this field over the last few years. Motion capture is not only for big studios anymore. There are solutions even small agencies and creatives can afford. How start creating motion capture data and what is the right product for your needs.\nWe have guests of the industry-leading companies. \nMartin Tabery of Manus\nMarkus will be showcasing the new Manus Polygon motion capture solution. He will also show us how Body tracking and hand tracking systems play a crucial role in the virtual production environment. These technologies are also already in use in the industry. He will present some exciting technologies and concrete application scenarios.\nhttps://www.manus-meta.com/polygon \nRokoko\nWe have a presentation of Rokoko featuring the new Smart Suit 2. The second edition of the popular mocap suit combines impressive motion tracking technology with effortless configuration to elevate indie creators and speed up studio workflows.\nhttps://www.rokoko.com/ \nThe event is free as always:) \nCheers Clarence
URL:https://www.meetxr.de/event/xr-bavaria-meetup-motion-capture/
LOCATION:Online Event\, online
CATEGORIES:talk
ATTACH;FMTTYPE=image/jpeg:https://www.meetxr.de/wp-content/uploads/2022/02/2022-03-17_MotionCapture.jpeg
END:VEVENT
END:VCALENDAR