BEGIN:VCALENDAR
VERSION:2.0
PRODID:-//meetXR - ECPv5.8.0//NONSGML v1.0//EN
CALSCALE:GREGORIAN
METHOD:PUBLISH
X-WR-CALNAME:meetXR
X-ORIGINAL-URL:https://www.meetxr.de
X-WR-CALDESC:Veranstaltungen für meetXR
BEGIN:VTIMEZONE
TZID:Europe/Berlin
BEGIN:DAYLIGHT
TZOFFSETFROM:+0100
TZOFFSETTO:+0200
TZNAME:CEST
DTSTART:20220327T010000
END:DAYLIGHT
BEGIN:STANDARD
TZOFFSETFROM:+0200
TZOFFSETTO:+0100
TZNAME:CET
DTSTART:20221030T010000
END:STANDARD
END:VTIMEZONE
BEGIN:VEVENT
DTSTART;TZID=Europe/Berlin:20220224T190000
DTEND;TZID=Europe/Berlin:20220224T210000
DTSTAMP:20260425T224623
CREATED:20220131T140543Z
LAST-MODIFIED:20220209T121527Z
UID:3665-1645729200-1645736400@www.meetxr.de
SUMMARY:XR Bavaria Meetup – Medical XR 2022
DESCRIPTION:Extended Reality as a Booster: Opportunities and Challenges for Immersive Technologies in the Healthcare Sector \nThe potential for the application of extended reality (XR) technologies in healthcare is great and is currently being driven by a wave of technological innovations and the Corona pandemic as an additional catalyst. The solutions will benefit not only the scientific and professional groups directly involved in health care\, but also patients\, their relatives\, medical organisations and\, last but not least – resulting from the demographic situation\, among other things – society as a whole. \nIn Germany\, XR applications are still in their infancy compared to the international competition (especially the USA and Asia). On the one hand\, it is therefore important to consistently raise awareness of existing and future opportunities (extended reality technologies as a key element of digitalisation in the healthcare sector) in order to secure Germany’s future viability. On the other hand\, there are fundamental questions that need to be answered in terms of a European approach to digitalisation in the health sector. These include dealing with ethical principles\, data protection and security as well as an evidence-based consideration of XR technologies in a psychological or medical context. \nIn this Meetup we’ll give a short overview about the current status of XR in healthcare\, present examples how XR could accelerate the development of „Assisted Services“ in hospitals (2nd and 3rd tier processes) as well as VR based training and therapy examples. And of course we’ll discuss XR in healthcare from different perspectives and give insights in the sector. \nGuests: \nDr. Lars Riedemann\, MD is a Physician-Technologist at the University Hospital Heidelberg and Founder of ShiftMedical Conference \nAnton Ebert\, Senior Technology Manager and XR Responsible at Siemens Healthineers \nRene Zölfl\, Business Development Director PTC \nAndre Fangueiro\, Head of Design Tietoevry and former Senior Design Manager Leardal Medical \nand more to come… including the audience \nModeration: \nPetra Dahm\, Board Member XRB e.V. (Cluster Medical) and CIO StellDirVor GmbH
URL:https://www.meetxr.de/event/xr-bavaria-meetup-medical-xr-2022/
LOCATION:Online Event\, online
CATEGORIES:talk
ATTACH;FMTTYPE=image/jpeg:https://www.meetxr.de/wp-content/uploads/2022/01/2022-02-24_MedicalXR_.jpeg
END:VEVENT
END:VCALENDAR