BEGIN:VCALENDAR
VERSION:2.0
PRODID:-//meetXR - ECPv5.8.0//NONSGML v1.0//EN
CALSCALE:GREGORIAN
METHOD:PUBLISH
X-WR-CALNAME:meetXR
X-ORIGINAL-URL:https://www.meetxr.de
X-WR-CALDESC:Veranstaltungen für meetXR
BEGIN:VTIMEZONE
TZID:Europe/Berlin
BEGIN:DAYLIGHT
TZOFFSETFROM:+0100
TZOFFSETTO:+0200
TZNAME:CEST
DTSTART:20210328T010000
END:DAYLIGHT
BEGIN:STANDARD
TZOFFSETFROM:+0200
TZOFFSETTO:+0100
TZNAME:CET
DTSTART:20211031T010000
END:STANDARD
END:VTIMEZONE
BEGIN:VEVENT
DTSTART;TZID=Europe/Berlin:20210422T180000
DTEND;TZID=Europe/Berlin:20210422T210000
DTSTAMP:20260425T201759
CREATED:20210322T182836Z
LAST-MODIFIED:20210322T182836Z
UID:2939-1619114400-1619125200@www.meetxr.de
SUMMARY:XR Bavaria Meetup: Immersive 3D Audio
DESCRIPTION:3D Audio erlebt gerade in den verschiedensten Bereichen einen Boom. Die Sony PS5 setzt mit Tempest 3D bei der Game-Experience neue Maßstäbe\, auf YouTube bekommen sogenannte 8D Musik Videos Milliarden von Views und Samsung hat neben Apple gerade Kopfhörer auf den Markt gebracht\, die Head-Tracking für Spatial Audio unterstützen. \nDavon profitiert natürlich auch die XR Welt. Doch was genau bedeuten die Begriffe rund um den räumlichen Ton und wo ist überhaupt dessen Mehrwert? \nMartin Rieger (VRTonung.de) ist darauf genau darauf spezialisiert und möchte Licht in den schalltoten Raum bringen. Dazu hat er weitere Experten aus der Industrie\, Wissenschaft und Anwenderbereich eingeladen\, um zu zeigen\, wie vielseitig die Möglichkeiten sind. \nDank Zoom ist es nun möglich\, Hifi-Audio für alle Teilnehmer zu übertragen. Daher unbedingt die App am Desktop nutzen und in den Einstellungen das professionelle Audio aktivieren. Natürlich weisen wir noch einmal darauf hin\, wenn es so weit ist. Wir freuen uns darauf! \nAlso dann\, Kopfhörer schnappen\, reinhören und jetzt schon anmelden.
URL:https://www.meetxr.de/event/xr-bavaria-meetup-immersive-3d-audio/
LOCATION:Online Event\, online
CATEGORIES:talk
ATTACH;FMTTYPE=image/jpeg:https://www.meetxr.de/wp-content/uploads/2021/03/2021-04-15-Audio.jpeg
END:VEVENT
END:VCALENDAR