BEGIN:VCALENDAR
VERSION:2.0
PRODID:-//meetXR - ECPv5.8.0//NONSGML v1.0//EN
CALSCALE:GREGORIAN
METHOD:PUBLISH
X-WR-CALNAME:meetXR
X-ORIGINAL-URL:https://www.meetxr.de
X-WR-CALDESC:Veranstaltungen für meetXR
BEGIN:VTIMEZONE
TZID:Europe/Berlin
BEGIN:DAYLIGHT
TZOFFSETFROM:+0100
TZOFFSETTO:+0200
TZNAME:CEST
DTSTART:20210328T010000
END:DAYLIGHT
BEGIN:STANDARD
TZOFFSETFROM:+0200
TZOFFSETTO:+0100
TZNAME:CET
DTSTART:20211031T010000
END:STANDARD
END:VTIMEZONE
BEGIN:VEVENT
DTSTART;TZID=Europe/Berlin:20211202T180000
DTEND;TZID=Europe/Berlin:20211202T200000
DTSTAMP:20260425T213120
CREATED:20211116T121246Z
LAST-MODIFIED:20211116T121246Z
UID:3265-1638468000-1638475200@www.meetxr.de
SUMMARY:XR Bavaria Meetup - Experimental XR
DESCRIPTION:XR Bavaria Meetup – Experimental XR featuring Mel Slater and Stefan Palitov \nThe increasing adoption of VR technologies both in the industry and with regular consumers\, brings forth questions of the effects these tools have in its users. In this conversation with Prof. Mel Slater we will look into the effects of virtual body adoption on situation awareness\, implicit attitudes and self-reflection. Furthermore\, we explore what are the possibilities for using VR as a tool for psychological and social group improvement. These topics open up towards speculations on potentials\, challenges and ethical issues surrounding behavioral data gathering and behavior modifications through VR design. \nMel Slater\nMel Slater is a computer scientist known for his pioneering work in virtual reality\, in particular in the field of embodiment and presence in VR. He is currently Distinguished Investigator at the University of Barcelona. He is Director of the Event Lab (Experimental Virtual Environments in Neuroscience and Technology) at the University of Barcelona. He is a co-Founder of Virtual Bodywork Inc. In 2005 he was awarded the IEEE Virtual Reality Career Award in Recognition of Pioneering Achievements in Theory and Applications of Virtual Reality. He received the A. v. Humboldt – J. C. Mutis Research Award in 2020. \nStefan Palitov\nStefan Palitov is a XR and cultural researcher and filmmaker. His focus is storytelling\, XR experience design\, cultural spaces and art & tech. His academic background includes BA in Philosophy and MA in Media Arts Cultures Erasmus Mundus Excellence Program. Former Artist in Residence at ZKM | Center for Art and Media\, Karlsruhe and UNESCO Media Art Residency in Changsha\, China. \nThis meetup will be in English\nPlease register \nLink is here\nhttps://us02web.zoom.us/j/83882164413?pwd=WENudll2RnhzanNMTUNzTUtQU3Qvdz09
URL:https://www.meetxr.de/event/xr-bavaria-meetup-experimental-xr/
LOCATION:Zoom Meeting\, Zoom
CATEGORIES:talk
ATTACH;FMTTYPE=image/jpeg:https://www.meetxr.de/wp-content/uploads/2021/11/2021-12-02_ExperimentalXR.jpeg
END:VEVENT
END:VCALENDAR