BEGIN:VCALENDAR
VERSION:2.0
PRODID:-//meetXR - ECPv5.8.0//NONSGML v1.0//EN
CALSCALE:GREGORIAN
METHOD:PUBLISH
X-WR-CALNAME:meetXR
X-ORIGINAL-URL:https://www.meetxr.de
X-WR-CALDESC:Veranstaltungen für meetXR
BEGIN:VTIMEZONE
TZID:Europe/Berlin
BEGIN:DAYLIGHT
TZOFFSETFROM:+0100
TZOFFSETTO:+0200
TZNAME:CEST
DTSTART:20190331T010000
END:DAYLIGHT
BEGIN:STANDARD
TZOFFSETFROM:+0200
TZOFFSETTO:+0100
TZNAME:CET
DTSTART:20191027T010000
END:STANDARD
END:VTIMEZONE
BEGIN:VEVENT
DTSTART;TZID=Europe/Berlin:20190912T193000
DTEND;TZID=Europe/Berlin:20190912T220000
DTSTAMP:20260425T212943
CREATED:20190822T150234Z
LAST-MODIFIED:20190822T150234Z
UID:1825-1568316600-1568325600@www.meetxr.de
SUMMARY:XR Bavaria – KickOff Event
DESCRIPTION:Nach unserer Gründung im April und mit schon vielen neuen Köpfen an Bord wollen wir den Extended Reality Bavaria e.V. jetzt ganz offiziell vorstellen. Deshalb laden wir dich als Mitglied schon heute zu unserem \nKick-Off Event am 12. September 2019\nin die Seidlvilla \nein. Unser Ziel ist es\, die Extended Reality Szene in ganz Bayern zu fördern\, zu informieren und miteinander zu vernetzen. Deshalb geht es an dem Abend neben kurzen Vorträgen hauptsächlich darum sich kennenzulernen\, auszutauschen und aktiv weitere Ideen einzubringen. Wir freuen uns auf einen super Abend mit euch! Weitere Details zum Event folgen. \nLiebe Grüße\ndas XR Bavaria Team \nP.S. Die Einladung zum Kick-Off gilt nur für angemeldete Mitglieder. Wenn du noch jemanden kennst\, der am Kick-Off auf gar keinen Fall fehlen darf\, gib bitte die Info zu unserer Website www.xrbavaria.de weiter wo man sich jederzeit als Mitglied anmelden kann.
URL:https://www.meetxr.de/event/xr-bavaria-kickoff-event/
LOCATION:Seidlvilla\, Nikolaiplatz 1B\, München\, 80802\, Deutschland
CATEGORIES:talk
ATTACH;FMTTYPE=image/jpeg:https://www.meetxr.de/wp-content/uploads/2019/08/2019-09-12_XRBavariaKickoff.jpg
ORGANIZER;CN="XR%20Bavaria":MAILTO:info@xrbavaria.de
END:VEVENT
END:VCALENDAR