BEGIN:VCALENDAR
VERSION:2.0
PRODID:-//meetXR - ECPv5.8.0//NONSGML v1.0//EN
CALSCALE:GREGORIAN
METHOD:PUBLISH
X-WR-CALNAME:meetXR
X-ORIGINAL-URL:https://www.meetxr.de
X-WR-CALDESC:Veranstaltungen für meetXR
BEGIN:VTIMEZONE
TZID:Europe/Berlin
BEGIN:DAYLIGHT
TZOFFSETFROM:+0100
TZOFFSETTO:+0200
TZNAME:CEST
DTSTART:20210328T010000
END:DAYLIGHT
BEGIN:STANDARD
TZOFFSETFROM:+0200
TZOFFSETTO:+0100
TZNAME:CET
DTSTART:20211031T010000
END:STANDARD
END:VTIMEZONE
BEGIN:VEVENT
DTSTART;TZID=Europe/Berlin:20210715T180000
DTEND;TZID=Europe/Berlin:20210715T200000
DTSTAMP:20260425T183704
CREATED:20210611T114721Z
LAST-MODIFIED:20210611T114721Z
UID:3107-1626372000-1626379200@www.meetxr.de
SUMMARY:XR Bavaria - Hardware Meetup
DESCRIPTION:We have some new hardware to show and talk about.\nFeaturing XR Hardware expert Tom Neubert of Schenker Technologies\nand Oliver Wöhler of Pico Interactive\,\nHTC Vive and HP. \nThese are our guests \nOliver Wöhler\, Director Key Accounts Northern Europe at Pico.\nPico manufactures high-quality all-in-one VR glasses with a B2B focus.\nhttps://www.pico-interactive.com/ \nTom Neubert\, Senior Product Manager XR\, represents Schenker Technologies from Leipzig\, a Europe-wide specialist distributor for XR hardware who supports its customers in the holistic implementation of their commercial and creative projects. The curated portfolio includes headsets from HP\, HTC VIVE\, Pico and Varjo as well as freely configurable mobile workstations and backpack PCs.\nhttps://www.schenker-tech.de/ \nJune Hsieh Senior B2B Sales and Marco Savkovic Senior B2B Sales will show us the new HTC Vive HMDs.\nhttps://www.vive.com \nSee you there
URL:https://www.meetxr.de/event/xr-bavaria-hardware-meetup/
LOCATION:Online Event\, online
CATEGORIES:talk
ATTACH;FMTTYPE=image/jpeg:https://www.meetxr.de/wp-content/uploads/2021/06/2021-07-15_HardwareMeetup.jpg
END:VEVENT
END:VCALENDAR