BEGIN:VCALENDAR
VERSION:2.0
PRODID:-//meetXR - ECPv5.8.0//NONSGML v1.0//EN
CALSCALE:GREGORIAN
METHOD:PUBLISH
X-WR-CALNAME:meetXR
X-ORIGINAL-URL:https://www.meetxr.de
X-WR-CALDESC:Veranstaltungen für meetXR
BEGIN:VTIMEZONE
TZID:Europe/Berlin
BEGIN:DAYLIGHT
TZOFFSETFROM:+0100
TZOFFSETTO:+0200
TZNAME:CEST
DTSTART:20190331T010000
END:DAYLIGHT
BEGIN:STANDARD
TZOFFSETFROM:+0200
TZOFFSETTO:+0100
TZNAME:CET
DTSTART:20191027T010000
END:STANDARD
END:VTIMEZONE
BEGIN:VEVENT
DTSTART;TZID=Europe/Berlin:20191126T183000
DTEND;TZID=Europe/Berlin:20191126T220000
DTSTAMP:20260426T024425
CREATED:20191122T140605Z
LAST-MODIFIED:20191122T140605Z
UID:2219-1574793000-1574805600@www.meetxr.de
SUMMARY:XMAS WRAP UP
DESCRIPTION:Die Tage werden kürzer\, die Nächte kälter und die Weihnachtszeit wartet mit Lebkuchen und Keksen auf uns! In dieser besonderen Zeit voller Weihnachtsmärkte\, klingender Glocken und verrückter Einkaufsbummel bieten wir Euch einen vorweihnachtlichen Abend im Hofbräu Wirtshaus voller besinnlicher Programmiergüte und merry Nerdigkeit! \nDie erste Runde Bier geht auf’s XR-Haus! \nWir haben nur begrenzte Plätze im Hofbräu Wirtshaus. Wer dabei sein möchte\, unbedingt RSVP über Meetup! First come\, first serve!\nAnmeldung unter: https://www.meetup.com/de-DE/nextReality/events/266632477/
URL:https://www.meetxr.de/event/xmas-wrap-up/
LOCATION:Hofbräu Wirtshaus Speersort\, Speersort 1\, Hamburg\, 20095\, Deutschland
CATEGORIES:talk
ATTACH;FMTTYPE=image/jpeg:https://www.meetxr.de/wp-content/uploads/2019/11/2019-11-26_XMASWrapUp.jpg
END:VEVENT
END:VCALENDAR