BEGIN:VCALENDAR
VERSION:2.0
PRODID:-//meetXR - ECPv5.8.0//NONSGML v1.0//EN
CALSCALE:GREGORIAN
METHOD:PUBLISH
X-WR-CALNAME:meetXR
X-ORIGINAL-URL:https://www.meetxr.de
X-WR-CALDESC:Veranstaltungen für meetXR
BEGIN:VTIMEZONE
TZID:Europe/Berlin
BEGIN:DAYLIGHT
TZOFFSETFROM:+0100
TZOFFSETTO:+0200
TZNAME:CEST
DTSTART:20220327T010000
END:DAYLIGHT
BEGIN:STANDARD
TZOFFSETFROM:+0200
TZOFFSETTO:+0100
TZNAME:CET
DTSTART:20221030T010000
END:STANDARD
END:VTIMEZONE
BEGIN:VEVENT
DTSTART;TZID=Europe/Berlin:20220310T200000
DTEND;TZID=Europe/Berlin:20220310T213000
DTSTAMP:20260425T143708
CREATED:20220111T172439Z
LAST-MODIFIED:20220308T130521Z
UID:3672-1646942400-1646947800@www.meetxr.de
SUMMARY:X-TALK: Virtual Creativity
DESCRIPTION:Virtual Creativity: Can VR make us more creative?\nSpeaker: Christopher Werth (Director Strategy & Concept\, VOK DAMS worldwide) \nOur parents have always warned us about new immersive technologies: In the 18th century\, it was considered dangerous to read novels. There was a danger of losing oneself in other worlds. Later it was said that television would give us square eyes\, computer games would create criminals\, and smartphones would shatter our attention span. \nShouldn’t technology like VR drive us completely into a stupor? Like in Simon Stålenhag’s illustrated novel The Electric State? \nChristopher Werth claims the opposite at his X-TALK on March 10\, 2022. He shows how VR can be used as a productive booster in the individual steps of the creative process to develop new ideas with various applications and the targeted change of premises. \nAbout the Speaker\nChristopher Werth\nDirector Strategy & Concept\, VOK DAMS worldwide \nChristopher Werth is an expert in experiential marketing. He studied theater production and staged at the Schauspielhaus Bochum. After working as a creative at Jung von Matt and Scholz & Friends\, among others\, he is now Director Strategy & Concept at the agency for events and live-marketing VOK DAMS worldwide. He writes a gaming column for CulturMag and gives lectures at universities and international conferences. \nEvent-Formate\nX-TOUR: 18.00 – 19.00 Uhr\nWarm Welcome und geführte Tour durch Social-VR \nX-TALK: 20.00 – 21:30 Uhr\nThema: Virtual Creativity: Can VR make us more creative?\nSpeaker: Christopher Werth (Chief Metaverse Officer\, VOK DAMS worldwide) \nX-BEATS: 22.00 – 23.00 Uhr\nVR-Party mit Live-DJ-Set \nSie sind bereits auf AltspaceVR aktiv?\nZu den Altspace-Events \nHinweis: Die Teilnahme an einer X-TOUR ist nur mit vorheriger Anmeldung möglich.\nX-TALK und X-BEATS sind öffentliche Veranstaltungen. \nThe X-NIGHT events on AltspaceVR\nhttps://account.altvr.com/channels/immersive-x \nHOW TO JOIN\nFor the best experience use a VR headset e.g. an Oculus device or an HTC Vive. If you don’t have a headset\, download AltspaceVR on your PC and follow the event in 2D mode.\nhttps://altvr.com/get-altspacevr/ \nYou can also watch the X-TALK live on YouTube:\nhttps://www.youtube.com/user/vmpeople \nABOUT THE X-NIGHTS\nOn the second Thursday of the month\, we invite you to an international meet-up at AREA X\, our venue in Virtual Reality. In addition to a speaker who shares his experiences around new\, immersive forms of storytelling with us\, our meetings offer plenty of time and space for exchange around our campfire. \nX-NIGHT is a social VR event from the series IMMERSIVE X hosted by vm-people. Partners: eXperimental Reality Lab & Karlshochschule. \nPlease find more information about the X-NIGHTS at http://x-nights.net/ \nLearn more about vm-people at https://vm-people.de
URL:https://www.meetxr.de/event/x-talk-virtual-creativity/
LOCATION:AltspaceVR\, AltspaceVR
CATEGORIES:talk
ATTACH;FMTTYPE=image/png:https://www.meetxr.de/wp-content/uploads/2022/01/2022-03-10_X-Talk.png
END:VEVENT
END:VCALENDAR