BEGIN:VCALENDAR
VERSION:2.0
PRODID:-//meetXR - ECPv5.8.0//NONSGML v1.0//EN
CALSCALE:GREGORIAN
METHOD:PUBLISH
X-WR-CALNAME:meetXR
X-ORIGINAL-URL:https://www.meetxr.de
X-WR-CALDESC:Veranstaltungen für meetXR
BEGIN:VTIMEZONE
TZID:Europe/Berlin
BEGIN:DAYLIGHT
TZOFFSETFROM:+0100
TZOFFSETTO:+0200
TZNAME:CEST
DTSTART:20230326T010000
END:DAYLIGHT
BEGIN:STANDARD
TZOFFSETFROM:+0200
TZOFFSETTO:+0100
TZNAME:CET
DTSTART:20231029T010000
END:STANDARD
END:VTIMEZONE
BEGIN:VEVENT
DTSTART;TZID=Europe/Berlin:20230421T200000
DTEND;TZID=Europe/Berlin:20230421T210000
DTSTAMP:20260425T155151
CREATED:20230418T220210Z
LAST-MODIFIED:20230418T220210Z
UID:6271-1682107200-1682110800@www.meetxr.de
SUMMARY:X-TALK: Exploring the wild worlds of VRChat
DESCRIPTION:Thema:\nExploring the wild worlds of VRChat \nSpeaker:\nKlaus Lemm \nWir freuen uns\, Sie im April in unserer AREA X in VRChat begrüßen zu dürfen.\n \nDie Teilnahme ist in drei ganz einfachen Schritten möglich: \n\nErstellen Sie ein Nutzerkonto bei VRChat oder loggen Sie sich ein\, sofern Sie bereits ein Konto haben.\nFügen Sie über den Desktop-Browser die AREA X zu Ihren Favoriten hinzu\, um diese im Anschluss schneller zu finden.\nInstallieren Sie die VRChat-App auf Ihrer VR-Brille und betreten Sie die AREA X.\n\nWir freuen uns auf Sie! \nHinweis: Der X-TALK ist eine öffentliche Veranstaltung – die Teilnahme ist ohne Voranmeldung möglich! \nAbout the Speaker\nKlaus Lemm \nKlaus Lemm is a high-end IT consultant in the field of business consulting\, system integration and outsourcing at a global service provider for IT and business processes. In his spare time he is an enthusiastic discoverer of immersive worlds and is one of the experts in the field of Social VR applications. \nX-NIGHTS\nSie sind Medienvertreter:in oder Entscheidungsträger:in in den Bereichen Marketing\, Events\, Öffentlichkeitsarbeit oder Sponsoring und wollen sich persönlich einen Eindruck von den Möglichkeiten verschaffen\, die Social-VR bietet? \nAn jedem zweiten Donnerstag im Monat laden wir ein zur X-NIGHT\, einer Veranstaltungsreihe in der Virtuellen Realität. Auf dem Programm stehen geführte Touren durch Social-VR-Communities (X-TOURS)\, Expertenvorträge zum Thema neue\, digitale Formen des Storytellings (X-TALKS) und Partys mit Live-DJ-Sets (X-BEATS). \nNach Rücksprache bieten wir Ihnen gerne einen exklusiven Zugang zu den Events an unserem virtuellen Veranstaltungsort AREA X inklusive Lieferung eines VR-Headset (Oculus Quest All-in-One-Headset) auf Leihbasis. Bitte melden Sie sich in diesem Fall bis spätestens am Montag vor einer X-NIGHT an.   \nPlease find more information about the X-NIGHTS at http://x-nights.net/ \nLearn more about vm-people at https://vm-people.de
URL:https://www.meetxr.de/event/x-talk-exploring-the-wild-worlds-of-vrchat/
LOCATION:VRChat\, VRChat
CATEGORIES:talk
ATTACH;FMTTYPE=image/png:https://www.meetxr.de/wp-content/uploads/2023/04/2023-04-21_XNIGHT_VRCHAT.png
END:VEVENT
END:VCALENDAR