BEGIN:VCALENDAR
VERSION:2.0
PRODID:-//meetXR - ECPv5.8.0//NONSGML v1.0//EN
CALSCALE:GREGORIAN
METHOD:PUBLISH
X-WR-CALNAME:meetXR
X-ORIGINAL-URL:https://www.meetxr.de
X-WR-CALDESC:Veranstaltungen für meetXR
BEGIN:VTIMEZONE
TZID:Europe/Berlin
BEGIN:DAYLIGHT
TZOFFSETFROM:+0100
TZOFFSETTO:+0200
TZNAME:CEST
DTSTART:20210328T010000
END:DAYLIGHT
BEGIN:STANDARD
TZOFFSETFROM:+0200
TZOFFSETTO:+0100
TZNAME:CET
DTSTART:20211031T010000
END:STANDARD
END:VTIMEZONE
BEGIN:VEVENT
DTSTART;TZID=Europe/Berlin:20210311T110000
DTEND;TZID=Europe/Berlin:20210311T130000
DTSTAMP:20260425T224334
CREATED:20210305T131141Z
LAST-MODIFIED:20210305T143156Z
UID:2836-1615460400-1615467600@www.meetxr.de
SUMMARY:Workshop: Virtual Spaces for Creative Industries
DESCRIPTION:KREATIVCAMPUS.RUHR\nA workshop with Farina Hamann: https://farina-hamann.de/ \nEN \nAccess:\nThe number of workshop participants is limited to 25. Information on registration will follow soon!\nParts of the workshop will be made available to the public afterwards. \nInfo:\nThe pandemic affects all creative industries. Concerts are replaced with livestreams\, conferences with video calls and exhibitions with photo galleries. But there are more options: we can meet each other\, exhibit art and share experiences inside virtual spaces.\nIn this workshop we want to discover different (VR) platforms and possibilities\, develop ideas for our own ways of working and figure out how to implement virtual worlds. Most of the platforms we want to look at can be experienced directly in Virtual Reality with a VR headset or in a 2D mode on a screen. \nDE \nZugang:\nDie Anzahl der WorkshopteilnehmerInnen ist auf 25 Personen begrenzt. Infos zur Anmeldung folgen in Kürze!\nTeile des Workshops werden anschließend der Öffentlichkeit zugänglich gemacht. \nInfo:\nDie Pandemie betrifft alle Bereiche der Kreativwirtschaft. Konzerte werden durch Livestreams\, Konferenzen mit Videoanrufen und Ausstellungen mit Fotogalerien ersetzt. Es gibt aber noch mehr Möglichkeiten: Wir können uns in virtuellen Räumen treffen\, Kunst ausstellen und Erfahrungen austauschen.\nIn diesem Workshop wollen wir verschiedene (VR) Plattformen und Möglichkeiten entdecken\, Ideen für unsere eigene Arbeitsweise entwickeln und herausfinden\, wie virtuelle Welten implementiert werden können. Die meisten Plattformen\, die wir uns im Workshop ansehen\, können direkt in Virtual Reality mit einem VR-Headset oder in einem 2D-Modus auf einem Bildschirm erlebt werden.
URL:https://www.meetxr.de/event/workshop-virtual-spaces-for-creative-industries/
LOCATION:Online Event\, online
CATEGORIES:hack,talk
ATTACH;FMTTYPE=image/jpeg:https://www.meetxr.de/wp-content/uploads/2021/03/2021-03-11_VirtualApproaches.jpg
END:VEVENT
END:VCALENDAR