BEGIN:VCALENDAR
VERSION:2.0
PRODID:-//meetXR - ECPv5.8.0//NONSGML v1.0//EN
CALSCALE:GREGORIAN
METHOD:PUBLISH
X-WR-CALNAME:meetXR
X-ORIGINAL-URL:https://www.meetxr.de
X-WR-CALDESC:Veranstaltungen für meetXR
BEGIN:VTIMEZONE
TZID:Europe/Berlin
BEGIN:DAYLIGHT
TZOFFSETFROM:+0100
TZOFFSETTO:+0200
TZNAME:CEST
DTSTART:20210328T010000
END:DAYLIGHT
BEGIN:STANDARD
TZOFFSETFROM:+0200
TZOFFSETTO:+0100
TZNAME:CET
DTSTART:20211031T010000
END:STANDARD
END:VTIMEZONE
BEGIN:VEVENT
DTSTART;TZID=Europe/Berlin:20210609T100000
DTEND;TZID=Europe/Berlin:20210609T170000
DTSTAMP:20260425T211519
CREATED:20210504T090756Z
LAST-MODIFIED:20210504T090847Z
UID:3026-1623232800-1623258000@www.meetxr.de
SUMMARY:Workshop | Virtual Reality in den Darstellenden Künsten
DESCRIPTION:Bisher war Virtual Reality für dich ein Begriff aus dem Gaming\, aber die aktuelle Situation hat dir gezeigt: Vielleicht solltest du VR für deine Kunst doch mal genauer ausloten? Du wolltest schon immer mit Virtual Reality in deiner Produktion arbeiten\, aber scheust die technische Hürde? Dann bist Du bei uns genau richtig: Im Rahmen des diesjährigen VRHAM! Virtual Reality & Arts Festivals bieten wir am Mittwoch\, 9. Juni 2021 einen ganztägigen Workshop zu Virtual Reality in den darstellenden Künsten im Hamburger Kreativviertel Oberhafenquartier an. Der Workshop richtet sich deutschlandweit an Kolleg:innen aus den freien darstellenden Künsten und ist für euch komplett kostenfrei! Ihr kümmert euch um Anreise und Unterkunft in Hamburg– wir übernehmen den Rest. \nMit Mario Simon von der Akademie für Digitalität und Theater in Dortmund und Lena Biresch\, Virtual Experience Designerin\, haben wir die perfekten Expert:innen gefunden\, um mögliche Ängste vor der Technik zu nehmen\, euch praxisnah grundlegendes Wissen zu vermitteln und gemeinsam rauszufinden\, wie ihr Virtual Reality in eure eigene künstlerische Praxis integrieren könnt. Ulrich Schrauth\, Künstlerischer Leiter von VRHAM! und Immersive Programmer des London Film Festivals gibt euch außerdem einen Überblick\, was im Bereich der immersiven Medien und den performativen Künsten gerade international so los ist. \nMeldet euch bis spätestens 16. Mai 2021 bei Hannah unter h.bode@vrham.de an und stellt euch kurz mit ein paar Zeilen vor. Erzählt uns von eurem beruflichen Background und warum der Workshop für euch spannend und passend ist. Die Plätze werden der Reihenfolge nach vergeben – also schnell anmelden! Wir freuen uns auf euch. Wir sorgen natürlich dafür\, dass die Rahmenbedingungen während des Workshops den aktuellen Coronabestimmungen entsprechen.
URL:https://www.meetxr.de/event/workshop-virtual-reality-in-den-darstellenden-kuensten/
LOCATION:Kreativzentrum Oberhafenquartier\, Stockmeyerstraße 41\, Hamburg\, 20457\, Deutschland
CATEGORIES:hack,talk
ATTACH;FMTTYPE=image/jpeg:https://www.meetxr.de/wp-content/uploads/2021/05/2021-06-09_KunstVRWorkshop.jpg
ORGANIZER;CN="VRHAM%21%20Festival":MAILTO:info@vrham.de
END:VEVENT
END:VCALENDAR