BEGIN:VCALENDAR
VERSION:2.0
PRODID:-//meetXR - ECPv5.8.0//NONSGML v1.0//EN
CALSCALE:GREGORIAN
METHOD:PUBLISH
X-WR-CALNAME:meetXR
X-ORIGINAL-URL:https://www.meetxr.de
X-WR-CALDESC:Veranstaltungen für meetXR
BEGIN:VTIMEZONE
TZID:Europe/Berlin
BEGIN:DAYLIGHT
TZOFFSETFROM:+0100
TZOFFSETTO:+0200
TZNAME:CEST
DTSTART:20180325T010000
END:DAYLIGHT
BEGIN:STANDARD
TZOFFSETFROM:+0200
TZOFFSETTO:+0100
TZNAME:CET
DTSTART:20181028T010000
END:STANDARD
END:VTIMEZONE
BEGIN:VEVENT
DTSTART;TZID=Europe/Berlin:20181012T110000
DTEND;TZID=Europe/Berlin:20181013T180000
DTSTAMP:20260425T222451
CREATED:20181011T191600Z
LAST-MODIFIED:20181011T191600Z
UID:734-1539342000-1539453600@www.meetxr.de
SUMMARY:Womenize! Games And Tech | Cologne Edition
DESCRIPTION:Womenize! – platform for intitiatives in tech\, digital business and media. Boosting female empowerment and diversity since 2015. For the first time in Cologne. Funded by Film- und Medienstiftung NRW. Location Partner: Cologne Game Haus \n*** \nWomenize! is the action platform for talents in games\, tech and digital business. After a successful event during #gamesweekberlin 2018 earlier this year\, we are happy to announce the first edition in Cologne on Friday and Saturday\, October 12-13\, 2018! \nWhich other location would suit this format better than the new and amazing Cologne Game Haus? \nProgram outline: \nFriday\, October 12\, 2018 (Doors: 11:00)\nConference & Recruitment Area (12:00-20:00) \nSaturday\, October 13\, 2018 (Doors: 12:00)\nWorkshops (13:00-18:00) \nNetworking: ongoing \nVisit our website for more details: www.womenize.net \n*** \nCombining practical and theoretical program parts\, the format is designed specifically for women who seek to build a career in the fields of games\, media and IT\, including HR & culture managers\, decision makers\, institutions and multipliers. Furthermore we want to inspire emerging talents by giving sHeroes a stage. \nThat said: The event is open to all genders. \nwww.womenize.net
URL:https://www.meetxr.de/event/womenize-games-and-tech-cologne-edition/
LOCATION:Cologne Game House\, Deutz-Mülheimer Str. 30\, Köln\, 50679\, Deutschland
CATEGORIES:talk
ATTACH;FMTTYPE=image/jpeg:https://www.meetxr.de/wp-content/uploads/2018/10/2018-10-12_Womenize.jpg
END:VEVENT
END:VCALENDAR