BEGIN:VCALENDAR
VERSION:2.0
PRODID:-//meetXR - ECPv5.8.0//NONSGML v1.0//EN
CALSCALE:GREGORIAN
METHOD:PUBLISH
X-WR-CALNAME:meetXR
X-ORIGINAL-URL:https://www.meetxr.de
X-WR-CALDESC:Veranstaltungen für meetXR
BEGIN:VTIMEZONE
TZID:Europe/Berlin
BEGIN:DAYLIGHT
TZOFFSETFROM:+0100
TZOFFSETTO:+0200
TZNAME:CEST
DTSTART:20200329T010000
END:DAYLIGHT
BEGIN:STANDARD
TZOFFSETFROM:+0200
TZOFFSETTO:+0100
TZNAME:CET
DTSTART:20201025T010000
END:STANDARD
END:VTIMEZONE
BEGIN:VEVENT
DTSTART;TZID=Europe/Berlin:20200603T201500
DTEND;TZID=Europe/Berlin:20200603T223000
DTSTAMP:20260425T173240
CREATED:20200527T190607Z
LAST-MODIFIED:20200527T190607Z
UID:2622-1591215300-1591223400@www.meetxr.de
SUMMARY:Women in Immersive Tech - Monthly meetup in VR
DESCRIPTION:Get together to meet each other again virtually\, to see how everyone handling these challenging times and at the same discovering one of the most popular social platforms in VR\, Altpace VR.\nAs we prefer to moderate who attends\, the event is private. \n1. Download Altspace VR –> https://altvr.com/get-altspacevr/. Hence available via the Altspace VR app via desktop (Windows only) or in the headset (Go\, Quest\, HTC Vive\, Rift\, Windows Mixed Reality). \n2. Please set up your avatar and then befriend either „LeenSegers“\, „saralisa“\, „ioanamatei“ or „Virtual_Vera“. \n3. Thirdly\, please register (via the desktop) to this event to be able to see the event popping up.\nhttps://account.altvr.com/events/1465221122575303254\nMake sure you RSVP here. \nLooking forward to meeting your virtual selves this Wednesday at 8.30pm! Sara Lisa Vogl\, Vera Grablechner\, Ioana Matei and Leen Segers.
URL:https://www.meetxr.de/event/women-in-immersive-tech-monthly-meetup-in-vr/
LOCATION:AltspaceVR\, AltspaceVR
CATEGORIES:talk
ATTACH;FMTTYPE=image/jpeg:https://www.meetxr.de/wp-content/uploads/2020/05/2020-06-03_WomenInImmersiveTech.jpg
ORGANIZER;CN="Women%20in%20Immersive%20Technologies":MAILTO:https://www.wiiteurope.org
END:VEVENT
END:VCALENDAR