BEGIN:VCALENDAR
VERSION:2.0
PRODID:-//meetXR - ECPv5.8.0//NONSGML v1.0//EN
CALSCALE:GREGORIAN
METHOD:PUBLISH
X-WR-CALNAME:meetXR
X-ORIGINAL-URL:https://www.meetxr.de
X-WR-CALDESC:Veranstaltungen für meetXR
BEGIN:VTIMEZONE
TZID:Europe/Berlin
BEGIN:DAYLIGHT
TZOFFSETFROM:+0100
TZOFFSETTO:+0200
TZNAME:CEST
DTSTART:20210328T010000
END:DAYLIGHT
BEGIN:STANDARD
TZOFFSETFROM:+0200
TZOFFSETTO:+0100
TZNAME:CET
DTSTART:20211031T010000
END:STANDARD
END:VTIMEZONE
BEGIN:VEVENT
DTSTART;TZID=Europe/Berlin:20210326T173000
DTEND;TZID=Europe/Berlin:20210326T190000
DTSTAMP:20260425T224253
CREATED:20210322T174520Z
LAST-MODIFIED:20210322T174520Z
UID:2920-1616779800-1616785200@www.meetxr.de
SUMMARY:WIIT Anniversary
DESCRIPTION:Let’s get together to celebrate our community.
URL:https://www.meetxr.de/event/wiit-anniversary/
LOCATION:Zoom Meeting\, Zoom
CATEGORIES:talk
ATTACH;FMTTYPE=image/jpeg:https://www.meetxr.de/wp-content/uploads/2021/03/2021-03-26_WIITAnniversary.jpg
ORGANIZER;CN="Women%20in%20Immersive%20Technologies":MAILTO:https://www.wiiteurope.org
END:VEVENT
END:VCALENDAR