BEGIN:VCALENDAR
VERSION:2.0
PRODID:-//meetXR - ECPv5.8.0//NONSGML v1.0//EN
CALSCALE:GREGORIAN
METHOD:PUBLISH
X-WR-CALNAME:meetXR
X-ORIGINAL-URL:https://www.meetxr.de
X-WR-CALDESC:Veranstaltungen für meetXR
BEGIN:VTIMEZONE
TZID:Europe/Berlin
BEGIN:DAYLIGHT
TZOFFSETFROM:+0100
TZOFFSETTO:+0200
TZNAME:CEST
DTSTART:20220327T010000
END:DAYLIGHT
BEGIN:STANDARD
TZOFFSETFROM:+0200
TZOFFSETTO:+0100
TZNAME:CET
DTSTART:20221030T010000
END:STANDARD
END:VTIMEZONE
BEGIN:VEVENT
DTSTART;TZID=Europe/Berlin:20220222T170000
DTEND;TZID=Europe/Berlin:20220222T180000
DTSTAMP:20260425T183822
CREATED:20220209T121928Z
LAST-MODIFIED:20220209T121928Z
UID:3842-1645549200-1645552800@www.meetxr.de
SUMMARY:Wie verändert sich die Zusammenarbeit im Metaverse? Meetup auf AltspaceVR
DESCRIPTION:Sandra Kiel und Engin Eser nehmen uns mit das Metaverse und geben uns ihre Einschätzung\, wie sich die Zusammenarbeit mit Tools wie AltspaceVR oder Mesh for Teams verändern wird. Sie haben das Thema Collaboration in VR bzw. Mixed Reality in verschiedenen Events mit Kunden ausprobiert und erzählen von ihren Erfahrungen. Das Meetup findet auf AltspaceVR statt. Die Sprache ist hochdeutsch. \nSandra ist MVP und hat zusammen mit Engin die Firma EventPunks gegründet\, welche Kunden bei der Durchführung von virtuellen Events berät und unterstützt.
URL:https://www.meetxr.de/event/wie-veraendert-sich-die-zusammenarbeit-im-metaverse-meetup-auf-altspacevr/
LOCATION:AltspaceVR\, AltspaceVR
CATEGORIES:talk
ATTACH;FMTTYPE=image/jpeg:https://www.meetxr.de/wp-content/uploads/2022/02/2022-02-22_ZusammenarbeitMetaverse.jpeg
END:VEVENT
END:VCALENDAR