BEGIN:VCALENDAR
VERSION:2.0
PRODID:-//meetXR - ECPv5.8.0//NONSGML v1.0//EN
CALSCALE:GREGORIAN
METHOD:PUBLISH
X-WR-CALNAME:meetXR
X-ORIGINAL-URL:https://www.meetxr.de
X-WR-CALDESC:Veranstaltungen für meetXR
BEGIN:VTIMEZONE
TZID:Europe/Berlin
BEGIN:DAYLIGHT
TZOFFSETFROM:+0100
TZOFFSETTO:+0200
TZNAME:CEST
DTSTART:20200329T010000
END:DAYLIGHT
BEGIN:STANDARD
TZOFFSETFROM:+0200
TZOFFSETTO:+0100
TZNAME:CET
DTSTART:20201025T010000
END:STANDARD
END:VTIMEZONE
BEGIN:VEVENT
DTSTART;TZID=Europe/Berlin:20200528T173000
DTEND;TZID=Europe/Berlin:20200528T193000
DTSTAMP:20260425T185530
CREATED:20200519T151059Z
LAST-MODIFIED:20200519T151059Z
UID:2586-1590687000-1590694200@www.meetxr.de
SUMMARY:What humans do with XR and what XR does with humans.
DESCRIPTION:What humans do with XR and what XR does with humans.“\nEin Vortrag von: \nProf. Dr. Philipp Rauschnabel\nProf. Dr. Philipp Rauschnabel ist seit 2018 Professor für Digitales Marketing und Medieninnovation an der Universität der Bundeswehr München (Fakultät für Betriebswirtschaft). Die Forschungsarbeiten der Professur umfassen verhaltenswissenschaftliche und managementrelevante Fragestellungen aus dem Bereich XR. \nWeiterhin freuen wir uns aufs Netzwerken mit der XR Community im Anschluss auf der Social VR Platform Engage \nWir freuen uns auf euch!
URL:https://www.meetxr.de/event/what-humans-do-with-xr-and-what-xr-does-with-humans/
LOCATION:ENGAGE\, ENGAGE
CATEGORIES:talk
ATTACH;FMTTYPE=image/jpeg:https://www.meetxr.de/wp-content/uploads/2020/05/2020-05-28_XRHumans.jpeg
END:VEVENT
END:VCALENDAR