BEGIN:VCALENDAR
VERSION:2.0
PRODID:-//meetXR - ECPv5.8.0//NONSGML v1.0//EN
CALSCALE:GREGORIAN
METHOD:PUBLISH
X-WR-CALNAME:meetXR
X-ORIGINAL-URL:https://www.meetxr.de
X-WR-CALDESC:Veranstaltungen für meetXR
BEGIN:VTIMEZONE
TZID:Europe/Berlin
BEGIN:DAYLIGHT
TZOFFSETFROM:+0100
TZOFFSETTO:+0200
TZNAME:CEST
DTSTART:20220327T010000
END:DAYLIGHT
BEGIN:STANDARD
TZOFFSETFROM:+0200
TZOFFSETTO:+0100
TZNAME:CET
DTSTART:20221030T010000
END:STANDARD
END:VTIMEZONE
BEGIN:VEVENT
DTSTART;TZID=Europe/Berlin:20220322T170000
DTEND;TZID=Europe/Berlin:20220322T180000
DTSTAMP:20260425T224359
CREATED:20220209T122227Z
LAST-MODIFIED:20220209T122227Z
UID:3846-1647968400-1647972000@www.meetxr.de
SUMMARY:Welcome to the Metaverse!
DESCRIPTION:Mit Christian Glessner\, MVP und Co-founder von Hololux und Zaid Zaim\, MVP und Mixed Reality & HoloLens Enthusiast\, stehen zwei weitere Metaverse Experten für ein Meetup zur Verfügung. \nDer Begriff “Metaverse” ist in aller Munde\, aber was heißt das eigentlich genau? Und was bedeutet dies für mein Unternehmen? Kurz gesagt\, ist das Metaverse der Punkt in dem Zeitpunkt in der Zukunft\, wenn die Technologien wie AR\, VR und XR eine kritische Marktdurchdringung erreicht haben und zu unserem Alltag gehören ähnlich wie das Smartphone. Oder anders gesagt\, das Metaverse ist wie das World Wide Web nur halt dreidimensional. \nMicrosoft hat letztes Jahr bereits Mesh angekündigt. Microsoft Mesh wird die erste Enterprise-ready Entwicklungsplattform für das Metaverse. Das Metaverse wird eine disruptive Transformation. Dies birgt Risiken\, aber auch große Chancen! \n“The future belongs to those who see possibilities before they become obvious” – John Sculley
URL:https://www.meetxr.de/event/welcome-to-the-metaverse/
LOCATION:Online Event\, online
CATEGORIES:talk
ATTACH;FMTTYPE=image/jpeg:https://www.meetxr.de/wp-content/uploads/2022/02/2022-03-22_WelcomeToTheMetaverse.jpeg
END:VEVENT
END:VCALENDAR