BEGIN:VCALENDAR
VERSION:2.0
PRODID:-//meetXR - ECPv5.8.0//NONSGML v1.0//EN
CALSCALE:GREGORIAN
METHOD:PUBLISH
X-WR-CALNAME:meetXR
X-ORIGINAL-URL:https://www.meetxr.de
X-WR-CALDESC:Veranstaltungen für meetXR
BEGIN:VTIMEZONE
TZID:Europe/Berlin
BEGIN:DAYLIGHT
TZOFFSETFROM:+0100
TZOFFSETTO:+0200
TZNAME:CEST
DTSTART:20180325T010000
END:DAYLIGHT
BEGIN:STANDARD
TZOFFSETFROM:+0200
TZOFFSETTO:+0100
TZNAME:CET
DTSTART:20181028T010000
END:STANDARD
END:VTIMEZONE
BEGIN:VEVENT
DTSTART;TZID=Europe/Berlin:20180914T160000
DTEND;TZID=Europe/Berlin:20180914T180000
DTSTAMP:20260425T234817
CREATED:20180817T215716Z
LAST-MODIFIED:20180817T220700Z
UID:407-1536940800-1536948000@www.meetxr.de
SUMMARY:WebXR Reboot
DESCRIPTION:Hey WebXR people of Berlin\, \nVragments GmbH is hosting its 5th VR Popup Store in Berlin from September 10-14 and is organizing the next Berlin WebXR Meetup there. \nWe invite you to a session of talks: \n+ Stand-Up Panel: Opportunities and Challenges of WebXR landscape (device challenges\, players & more)\n+ Focus: WebXR vs Native – our learnings from 2+ years of product development with Fader\n+ Outlook: Connecting and bootstrapping ideas on a global level \nCome by\, have a drink and let’s talk about WebXR! \nDrinks are on the house. Meet\, mix and mingle. More infos can be found here: https://vrpop.tumblr.com/
URL:https://www.meetxr.de/event/webxr-reboot/
LOCATION:Galerie Knoth+Krüger\, Oranienstraße 188\, Berlin\, 10999\, Deutschland
CATEGORIES:talk
ATTACH;FMTTYPE=image/jpeg:https://www.meetxr.de/wp-content/uploads/2018/08/2018-09-14_WebXRReboot.jpeg
ORGANIZER;CN="Vragments":MAILTO:contact@vragments.com
END:VEVENT
END:VCALENDAR