BEGIN:VCALENDAR
VERSION:2.0
PRODID:-//meetXR - ECPv5.8.0//NONSGML v1.0//EN
CALSCALE:GREGORIAN
METHOD:PUBLISH
X-WR-CALNAME:meetXR
X-ORIGINAL-URL:https://www.meetxr.de
X-WR-CALDESC:Veranstaltungen für meetXR
BEGIN:VTIMEZONE
TZID:Europe/Berlin
BEGIN:DAYLIGHT
TZOFFSETFROM:+0100
TZOFFSETTO:+0200
TZNAME:CEST
DTSTART:20230326T010000
END:DAYLIGHT
BEGIN:STANDARD
TZOFFSETFROM:+0200
TZOFFSETTO:+0100
TZNAME:CET
DTSTART:20231029T010000
END:STANDARD
END:VTIMEZONE
BEGIN:VEVENT
DTSTART;TZID=Europe/Berlin:20230605T183000
DTEND;TZID=Europe/Berlin:20230605T213000
DTSTAMP:20260425T183516
CREATED:20230605T064717Z
LAST-MODIFIED:20230605T064717Z
UID:7645-1685989800-1686000600@www.meetxr.de
SUMMARY:Watchparty – Apple Keynote im FTZ
DESCRIPTION:5. Juni – spontane Watchparty im FTZ ab 18:30 Uhr \nWir wollen gemeinsam mit euch die Apple Keynote gucken\, denn die bisher größte WWDC beginnt mit einem ersten Blick auf wegweisende Updates\, die im Laufe des Jahres für die Plattformen von Apple erscheinen werden – es wird spannend! \nLasst uns gerne via Mail wissen ob ihr Lust und Zeit habt dabei zu sein! \nSarah.Wienberg@nextReality.Hamburg
URL:https://www.meetxr.de/event/watchparty-apple-keynote-im-ftz/
LOCATION:HAW Hamburg: Forschungs- und Transferzentrum Digital Reality (FTZ)\, Am Sandtorkai 27\, Hamburg\, 20457\, Deutschland
CATEGORIES:talk
ATTACH;FMTTYPE=image/webp:https://www.meetxr.de/wp-content/uploads/2023/06/2023-06-05_AppleWatchparty.webp
END:VEVENT
END:VCALENDAR