BEGIN:VCALENDAR
VERSION:2.0
PRODID:-//meetXR - ECPv5.8.0//NONSGML v1.0//EN
CALSCALE:GREGORIAN
METHOD:PUBLISH
X-WR-CALNAME:meetXR
X-ORIGINAL-URL:https://www.meetxr.de
X-WR-CALDESC:Veranstaltungen für meetXR
BEGIN:VTIMEZONE
TZID:Europe/Berlin
BEGIN:DAYLIGHT
TZOFFSETFROM:+0100
TZOFFSETTO:+0200
TZNAME:CEST
DTSTART:20190331T010000
END:DAYLIGHT
BEGIN:STANDARD
TZOFFSETFROM:+0200
TZOFFSETTO:+0100
TZNAME:CET
DTSTART:20191027T010000
END:STANDARD
END:VTIMEZONE
BEGIN:VEVENT
DTSTART;TZID=Europe/Berlin:20190410T100000
DTEND;TZID=Europe/Berlin:20190411T200000
DTSTAMP:20260425T234940
CREATED:20190128T112055Z
LAST-MODIFIED:20190128T112135Z
UID:1124-1554890400-1555012800@www.meetxr.de
SUMMARY:VRX Europe 2019
DESCRIPTION:VRX Europe 2019 (10-11 April\, Amsterdam) is the continent’s premier immersive tech event\, bringing together senior business leaders across enterprise\, consumer entertainment\, technology and investment. The future of VR\, AR and MR hangs on believable storytelling\, profitability and seamless experiences. This will take time\, intellect and collaboration. Whether it’s market forecasts\, new partnerships or advice you seek\, the event gathers real people facing real challenges and provides solutions for the collective benefit of the industry. Take advantage of live demos\, speaker keynotes\, exclusive product releases and use-case work-throughs. VRX Europe is here to unite leaders at the cutting-edge of this new industry. Join this tech evolution as we combine forces\, cut the noise and propel XR into a new age. \n5 reasons your business cannot miss VRX 2019:\n\n300+ peers and colleagues to build your network. Benchmark\, debate and learn from the best minds in XR.\n3 focused tracks providing exclusive insights\, demonstrations and success stories for start-ups\, consumer and enterprise XR enthusiasts. Deep dive on one industry segment or customize your experience with sessions from each stream.\n60+ expert speakers sharing insights: You simply will not find a stronger collection of decision makers across spanning immersive tech\, entertainment\, business and XR investment.\n25+ hours of thought-provoking debate with case studies\, keynotes and discussions to equip you with the skills and insights to flourish in the year ahead.\nSave weeks of work and get more clarity in two days than weeks of market research and competitive benchmarking.\n\nWhat’s New For 2019?\n\nBrand new faces on the agenda\, such as the Vice President VR B2B and Business Development at HTC Vive and Interaction Director at Magic Leap\nThe Day 2\, Start-Up Track for start-ups to pitch their ideas and investors to share what it takes to make it\nFresh enterprise perspectives with speakers from ABB\, AMRC with Boeing and Bayer joining the enterprise XR panel\nGreater focus on mixed reality – in line with our research\, which forecasts the convergence of AR and VR\nMore interaction than ever before with enhanced Q&A and networking tools and more demonstration time built into the event!\n\nAn Event that Cuts Through the Noise\nWe’ve spoken with dozens of senior leaders across enterprise\, consumer entertainment and the entire immersive tech ecosystem to see what they needed. They overwhelmingly said that they needed a new kind of event. An industry reality check. An event focused on outcomes\, not evangelism:\nThe whole industry in one place: VRX is established as the annual event that brings together senior business leaders from across gaming\, media\, industry & tech. No other event does this to the level we do\nFollow the smart money: Get exposure to the primary investors and the biggest companies backing the growth of XR. Hear where the smart money’s going when they’re betting on the next wave of applications and adoption\nThe real innovators on show: We’ll showcase the key start-ups offering game-changing VR & AR solutions to drive industry growth – walk away with new inspiration and investment ideas\nAssess the true impacts of the tech: In-depth discussions and case studies highlighting the key use-cases and revenue opportunities for XR across both consumer and enterprise markets. Where do you need to be focusing NOW?\nUnrivalled networking opportunities: Carefully curated agenda tracks provide time to debate the learnings\, discuss future directions and work on tangible takeaways
URL:https://www.meetxr.de/event/vrx-europe-2019/
LOCATION:Hotel Novotel Amsterdam City\, Europaboulevard 10\, Amsterdam\, 1083 AD\, Niederlande
CATEGORIES:play,talk
ATTACH;FMTTYPE=image/jpeg:https://www.meetxr.de/wp-content/uploads/2019/01/2019-04-10_VRX-Europe.jpg
END:VEVENT
END:VCALENDAR