BEGIN:VCALENDAR
VERSION:2.0
PRODID:-//meetXR - ECPv5.8.0//NONSGML v1.0//EN
CALSCALE:GREGORIAN
METHOD:PUBLISH
X-WR-CALNAME:meetXR
X-ORIGINAL-URL:https://www.meetxr.de
X-WR-CALDESC:Veranstaltungen für meetXR
BEGIN:VTIMEZONE
TZID:Europe/Berlin
BEGIN:DAYLIGHT
TZOFFSETFROM:+0100
TZOFFSETTO:+0200
TZNAME:CEST
DTSTART:20190331T010000
END:DAYLIGHT
BEGIN:STANDARD
TZOFFSETFROM:+0200
TZOFFSETTO:+0100
TZNAME:CET
DTSTART:20191027T010000
END:STANDARD
END:VTIMEZONE
BEGIN:VEVENT
DTSTART;TZID=Europe/Berlin:20190712T110000
DTEND;TZID=Europe/Berlin:20190712T120000
DTSTAMP:20260425T224525
CREATED:20190117T110106Z
LAST-MODIFIED:20190510T145727Z
UID:1533-1562929200-1562932800@www.meetxr.de
SUMMARY:VRiday Meetup: Julia Berger & Sebastian Wagner
DESCRIPTION:JULIA BELGER & SEBASTIAN WAGNER\nTopic:\nVirtual street crossing: A novel immersive VR task for the detection of visuospatial neglect \nAffiliation:\nUniversitätsklinikum Leipzig\nUniversity of Magdenburg \nDate: July 12\, 2019\nTime: 11:00 – 12:00\nLocation: Room 144 \n\nVRiday Meetups\nThe VRiday Meetup takes place on the last Friday of the month at the Berlin School of Mind and Brain. It’s informal\, open to everyone\, and covers all topics at the interface between science\, arts\, and technology – with a focus on virtual reality. More information here.
URL:https://www.meetxr.de/event/vriday-meetup-julia-berger-sebastian-wagner/
LOCATION:Berlin School of Mind and Brain\, Luisenstraße 56\, Haus 1\, Berlin\, 10117\, Deutschland
CATEGORIES:talk
ATTACH;FMTTYPE=image/png:https://www.meetxr.de/wp-content/uploads/2019/01/2019-01-25_VridayMeetup.png
END:VEVENT
END:VCALENDAR