BEGIN:VCALENDAR
VERSION:2.0
PRODID:-//meetXR - ECPv5.8.0//NONSGML v1.0//EN
CALSCALE:GREGORIAN
METHOD:PUBLISH
X-WR-CALNAME:meetXR
X-ORIGINAL-URL:https://www.meetxr.de
X-WR-CALDESC:Veranstaltungen für meetXR
BEGIN:VTIMEZONE
TZID:Europe/Berlin
BEGIN:DAYLIGHT
TZOFFSETFROM:+0100
TZOFFSETTO:+0200
TZNAME:CEST
DTSTART:20190331T010000
END:DAYLIGHT
BEGIN:STANDARD
TZOFFSETFROM:+0200
TZOFFSETTO:+0100
TZNAME:CET
DTSTART:20191027T010000
END:STANDARD
END:VTIMEZONE
BEGIN:VEVENT
DTSTART;TZID=Europe/Berlin:20191025T110000
DTEND;TZID=Europe/Berlin:20191025T120000
DTSTAMP:20260425T212959
CREATED:20190822T154748Z
LAST-MODIFIED:20190822T154748Z
UID:1852-1572001200-1572004800@www.meetxr.de
SUMMARY:VRiday Meetup: Alex Masurovsky
DESCRIPTION:ALEX MASUROVSKY\nTopic:\nComparative user testing of a modified Leap Motion VR interface to an out-of-the box Leap and Oculus controller in a grasp and place task. \nAffiliation:\nBerlin School of Mind and Brain\n \nDate: October 25\, 2019\nTime: 11:00 – 12:00\nLocation: room 144 \n\nVRiday Meetups\nThe VRiday Meetup takes place on the last Friday of the month at the Berlin School of Mind and Brain. It’s informal\, open to everyone\, and covers all topics at the interface between science\, arts\, and technology – with a focus on virtual reality. More information here.
URL:https://www.meetxr.de/event/vriday-meetup-alex-masurovsky/
LOCATION:Berlin School of Mind and Brain\, Luisenstraße 56\, Haus 1\, Berlin\, 10117\, Deutschland
CATEGORIES:talk
ATTACH;FMTTYPE=image/png:https://www.meetxr.de/wp-content/uploads/2019/01/2019-01-25_VridayMeetup.png
END:VEVENT
END:VCALENDAR