BEGIN:VCALENDAR
VERSION:2.0
PRODID:-//meetXR - ECPv5.8.0//NONSGML v1.0//EN
CALSCALE:GREGORIAN
METHOD:PUBLISH
X-WR-CALNAME:meetXR
X-ORIGINAL-URL:https://www.meetxr.de
X-WR-CALDESC:Veranstaltungen für meetXR
BEGIN:VTIMEZONE
TZID:Europe/Berlin
BEGIN:DAYLIGHT
TZOFFSETFROM:+0100
TZOFFSETTO:+0200
TZNAME:CEST
DTSTART:20200329T010000
END:DAYLIGHT
BEGIN:STANDARD
TZOFFSETFROM:+0200
TZOFFSETTO:+0100
TZNAME:CET
DTSTART:20201025T010000
END:STANDARD
END:VTIMEZONE
BEGIN:VEVENT
DTSTART;TZID=Europe/Berlin:20200604T190000
DTEND;TZID=Europe/Berlin:20200607T210000
DTSTAMP:20260425T183121
CREATED:20200527T185650Z
LAST-MODIFIED:20200527T185650Z
UID:2616-1591297200-1591563600@www.meetxr.de
SUMMARY:VRHAM! Virtual 2020
DESCRIPTION:Discover VR art together\, virtually. \nVRHAM! Virtual Reality & Arts Festival 2020 is happening:\nFrom 4 June\, 2020\, visitors from Hamburg and worldwide are invited to experience curated Virtual\, Augmented and Mixed Reality art in digital space\, exchange ideas digitally and participate in a virtual festival with opening show\, partner events and live program. \nVRHAM! VIRTUAL is presented in partnership with the Museum of Other Realities (MOR) and Kaleidoscope\, a global network for Virtual Reality creators.
URL:https://www.meetxr.de/event/vrham-virtual-2020/
LOCATION:Online Event\, online
CATEGORIES:play,talk
ATTACH;FMTTYPE=image/jpeg:https://www.meetxr.de/wp-content/uploads/2020/05/2020-06-04_VRHAM.jpg
ORGANIZER;CN="VRHAM%21%20Festival":MAILTO:info@vrham.de
END:VEVENT
END:VCALENDAR