BEGIN:VCALENDAR
VERSION:2.0
PRODID:-//meetXR - ECPv5.8.0//NONSGML v1.0//EN
CALSCALE:GREGORIAN
METHOD:PUBLISH
X-WR-CALNAME:meetXR
X-ORIGINAL-URL:https://www.meetxr.de
X-WR-CALDESC:Veranstaltungen für meetXR
BEGIN:VTIMEZONE
TZID:Europe/Berlin
BEGIN:DAYLIGHT
TZOFFSETFROM:+0100
TZOFFSETTO:+0200
TZNAME:CEST
DTSTART:20190331T010000
END:DAYLIGHT
BEGIN:STANDARD
TZOFFSETFROM:+0200
TZOFFSETTO:+0100
TZNAME:CET
DTSTART:20191027T010000
END:STANDARD
END:VTIMEZONE
BEGIN:VEVENT
DTSTART;TZID=Europe/Berlin:20190522T183000
DTEND;TZID=Europe/Berlin:20190522T203000
DTSTAMP:20260425T211423
CREATED:20190510T141623Z
LAST-MODIFIED:20190510T142256Z
UID:1507-1558549800-1558557000@www.meetxr.de
SUMMARY:VRDB#52: Unity3D workshop 4/5
DESCRIPTION:If you would like to get into VR/AR\, one of the most popular software for it is Unity3D. It is free and we will go through its basics during this 5 coming workshops. The workshop is also free but to help with retention rate we charge 15€ that we give back to you at the last workshop. \nHere is the program:\nFriday 3rd of May – 18h30 to 20h30\nWorkshop 1/5\nUnity3D UI – Importing Assets – Prefabs – Add Material – Rigidbodies – Collision Detection – Inputs – Instantiate and Destroy Objects \nFriday 10th of May – 18h30 to 20h30\nWorkshop 2/5\nMove Objects – Add Force – Timer – Lights -Audio – Joints \nFriday 17th of May – 18h30 to 20h30\nWorkshop 3/5\nAxis Input – Cameras – Collision Triggers – GUI – Switching Scenes – Scripting: Adding And Tweaking Components \nWednesday 22th of May – 18h30 to 20h30\nWorkshop 4/5\nDirections: Local & World – Raycasting – LookAt() – Animation & Events – If Statements & Booleans – Pause Script with WaitForSeconds() \nFriday 24th of May – 18h30 to 20h30\nWorkshop 5/5\nParticle Systems – For Loops – GUI Texture – Mouse Events – Scripting: Call External Scripts \nWorkshop by Carl White (Meshicon Software\, VR Meetup Berlin\, AWE Nite Berlin). \nIMPORTANT:\nInstall Unity3D on your laptop beforehand (it takes >30 minutes) and bring your laptop!\nhttps://unity3d.com/de/get-unity/download \nSee you later!\nCarl White
URL:https://www.meetxr.de/event/vrdb52-unity3d-workshop-4-5/
LOCATION:SAE Institute Berlin\, Cuvrystraße 4\, Berlin\, 10997\, Deutschland
CATEGORIES:hack,talk
ATTACH;FMTTYPE=image/png:https://www.meetxr.de/wp-content/uploads/2019/02/2019-02-18_VRDevsBerlin.png
END:VEVENT
END:VCALENDAR