BEGIN:VCALENDAR
VERSION:2.0
PRODID:-//meetXR - ECPv5.8.0//NONSGML v1.0//EN
CALSCALE:GREGORIAN
METHOD:PUBLISH
X-WR-CALNAME:meetXR
X-ORIGINAL-URL:https://www.meetxr.de
X-WR-CALDESC:Veranstaltungen für meetXR
BEGIN:VTIMEZONE
TZID:Europe/Berlin
BEGIN:DAYLIGHT
TZOFFSETFROM:+0100
TZOFFSETTO:+0200
TZNAME:CEST
DTSTART:20180325T010000
END:DAYLIGHT
BEGIN:STANDARD
TZOFFSETFROM:+0200
TZOFFSETTO:+0100
TZNAME:CET
DTSTART:20181028T010000
END:STANDARD
END:VTIMEZONE
BEGIN:VEVENT
DTSTART;TZID=Europe/Berlin:20180829T190000
DTEND;TZID=Europe/Berlin:20180829T220000
DTSTAMP:20260425T212958
CREATED:20180818T121848Z
LAST-MODIFIED:20180818T121848Z
UID:471-1535569200-1535580000@www.meetxr.de
SUMMARY:VRBLN Focus: VR meets AR at unum
DESCRIPTION:VR and AR will merge in the near future. AR glasses are a good example showing the similarity of the two technologies. AR tools for phones are a first step towards consumer AR technology. Therefore we organize an event about this topic in collaboration with the Berlin AR meetup. We will meet at unum’s new space. \nLineup:\nSpeaker1:\nNavigating your way using new emerging XR technologies to create content that resonates. \nKasimir Lehto is a virtual and augmented reality creative\, producer\, storyteller from Finland and works in LA on his new project that will educate people with AR about how the future space ecosystem will be build. \nSpeaker2:\nThe coming of enterprise AR clouds – an end-to-end solution for the persistent AR deployment for enterprise. \nMichael Bucko is the founder of visualix.com\n(video: linkedin.com/company/visualix — Demo will be shown at the event) \nSpeaker 3:\nSubject: TBA \nRose Ann Haft\nCEO at Lumenora (lumenora.com) \nWhen:\n29th of August 2018 – 7pm to 10pm. \nWhere:\nAt unum\, which is a new platform and community\, where urban tech meets urban art. It binds temporary space with a creative work environment for innovators and startups. \nunum is located at Hometown (by Wandelism) hometown.berlin\, offering a completely new type of innovative co-creation space and event location environment in very attractive locations\, right in the center of Berlin.\n(Hertzallee 41\, 10787 Berlin\, City West\, unum.berlin) \nCatering:\nDrinks will be sold at the location. \nWe are looking forward to talk AR with you on the 29th of August! \nVRBLN team
URL:https://www.meetxr.de/event/vrbln-focus-vr-meets-ar-at-unum/
LOCATION:Hometown\, Hertzallee 41\, Berlin\, 10787\, Deutschland
CATEGORIES:talk
ATTACH;FMTTYPE=image/png:https://www.meetxr.de/wp-content/uploads/2018/08/2018-08-29_VRBLN.png
END:VEVENT
END:VCALENDAR