BEGIN:VCALENDAR
VERSION:2.0
PRODID:-//meetXR - ECPv5.8.0//NONSGML v1.0//EN
CALSCALE:GREGORIAN
METHOD:PUBLISH
X-WR-CALNAME:meetXR
X-ORIGINAL-URL:https://www.meetxr.de
X-WR-CALDESC:Veranstaltungen für meetXR
BEGIN:VTIMEZONE
TZID:Europe/Berlin
BEGIN:DAYLIGHT
TZOFFSETFROM:+0100
TZOFFSETTO:+0200
TZNAME:CEST
DTSTART:20180325T010000
END:DAYLIGHT
BEGIN:STANDARD
TZOFFSETFROM:+0200
TZOFFSETTO:+0100
TZNAME:CET
DTSTART:20181028T010000
END:STANDARD
END:VTIMEZONE
BEGIN:VEVENT
DTSTART;TZID=Europe/Berlin:20180825T120000
DTEND;TZID=Europe/Berlin:20180825T220000
DTSTAMP:20260425T224313
CREATED:20180815T134316Z
LAST-MODIFIED:20180816T111154Z
UID:80-1535198400-1535234400@www.meetxr.de
SUMMARY:VR Smash Vol. 5
DESCRIPTION:VR Smash geht in die nächste Runde! Wir laden euch wieder herzliche zu einem Super Smash Bros. für WiiU und Virtual Reality Event ein. \nVor Ort habt ihr aber nicht nur die Möglichkeit am Smash Turnier teilzunehmen\, sondern auch mit Virtual Reality und HTC Vive zu spielen\, ein wahrlich einzigartiges Erlebnis. Hierzu stehen bis zu 3 VR-Felder bereit auf denen ihr genug Platz habt um euch in zahlreichen Single- oder Multiplayer Spielen zu vergnügen.\nWie viele Felder wir zur Verfügung haben hängt von der Nachfrage ab\, also haut rein und gönnt euch VR Pässe! \nVR Smash ist hauptsächlich als Trainingsstätte geeignet\, und nicht als große Bühne um dich groß zu beweisen\, denn wir bieten leider keinen Stream.\nDafür bieten wir eine entspannte Location\, genug Setups\, Round Robin Pools und Bonus Bracket\, einen schnellen Zeitplan – was viel Zeit für Freeplay und andere Aktivitäten lässt.\nWer sich als Zuschauer anmelden möchte wählt einfach nur „Venue Fee“ aus\, oder meldet sich bei einem der TOs. \nDas Smash 5 Teilnehmercap beläuft sich auf 48 Teilnehmer\nWir sind auf eure Setups für ein reibungsloses Event angewiesen\, also bringt eure Setups mit! (jede Konsole und jeder Monitor geben je 1 gratis soft drink)\nEssen und Getränke von außerhalb in die Location zu bringen ist verboten!\nEssen und Trinken sind in der Location erhältlich (und unterstützen die Location und das Event) und Wasser ist für jeden Teilnehmer gratis an der Theke erhältlich! \nAnmeldeschluss ist 23. August um 12:00\nTeamerstellung für Doubles endet 24. August um 16:00\nWer bis dahin nicht angemeldet ist oder sein Team erstellt hat ist nicht im Bracket! \nSchedule\nSmash Singles:\n12:00 – Wave A\n13:00 – Wave B\n15:00 – Top 16\n(Bonus Bracket: 16:00)\nWer nicht pünktlich zu seiner Poolwave erscheint wird 15min nach Start disqualifiziert! \nDoubles (Cloud banned):\nNach Singles (est. 18:00) \nSolltet ihr sowohl Doubles als auch Bonus Bracket spielen\, und ihr habt ein Doubles und Bonus Bracket Set offen spielt zuerst das Doubles Set! \nWer bei Mitnahme eigener Kost oder Getränke erwischt wird erhält eine Ermahnung\, ein weiteres Mal führt dann zur Disqualifikation!
URL:https://www.meetxr.de/event/vr-smash-vol-5/
LOCATION:VirtuaLounge\, Kleine Burg 15\, Braunschweig\, 38100\, Deutschland
CATEGORIES:play
ATTACH;FMTTYPE=image/jpeg:https://www.meetxr.de/wp-content/uploads/2018/08/VRSmash_5.jpg
END:VEVENT
END:VCALENDAR