BEGIN:VCALENDAR
VERSION:2.0
PRODID:-//meetXR - ECPv5.8.0//NONSGML v1.0//EN
CALSCALE:GREGORIAN
METHOD:PUBLISH
X-WR-CALNAME:meetXR
X-ORIGINAL-URL:https://www.meetxr.de
X-WR-CALDESC:Veranstaltungen für meetXR
BEGIN:VTIMEZONE
TZID:Europe/Berlin
BEGIN:DAYLIGHT
TZOFFSETFROM:+0100
TZOFFSETTO:+0200
TZNAME:CEST
DTSTART:20180325T010000
END:DAYLIGHT
BEGIN:STANDARD
TZOFFSETFROM:+0200
TZOFFSETTO:+0100
TZNAME:CET
DTSTART:20181028T010000
END:STANDARD
END:VTIMEZONE
BEGIN:VEVENT
DTSTART;TZID=Europe/Berlin:20181020T120000
DTEND;TZID=Europe/Berlin:20181020T200000
DTSTAMP:20260425T212757
CREATED:20181017T175100Z
LAST-MODIFIED:20181017T175100Z
UID:760-1540036800-1540065600@www.meetxr.de
SUMMARY:VR Smash #6
DESCRIPTION:VR Smash geht in die nächste Runde!\nWir laden wieder zu einem Super Smash Bros. für WiiU und Virtual Reality Event ein. \nVor Ort habt ihr aber nicht nur die Möglichkeit am Smash Turnier teilzunehmen\, sondern auch mit Virtual Reality und HTC Vive zu spielen\, ein wahrlich einzigartiges Erlebnis. Hierzu stehen bis zu 3 VR-Felder bereit auf denen ihr genug Platz habt um euch in zahlreichen Single- oder Multiplayer Spielen zu vergnügen.\nWie viele Felder wir zur Verfügung haben hängt von der Nachfrage ab\, also haut rein und gönnt euch VR Pässe! \nVR Smash ist hauptsächlich als Trainingsstätte geeignet\, und nicht als große Bühne um dich groß zu beweisen\, denn wir bieten leider (zurzeit noch) keinen Stream.\nDafür bieten wir eine entspannte Location\, genug Setups\, Round Robin Pools und Bonus Bracket\, einen schnellen Zeitplan – was viel Zeit für Freeplay und andere Aktivitäten lässt.\nWer sich als Zuschauer anmelden möchte wählt einfach nur „Venue Fee“ aus\, oder meldet sich bei einem der TOs. \nDas Smash 4 Teilnehmercap beläuft sich auf 48 Teilnehmer (64 Besucher gesamt\, also 16 Spectator haben Platz)\nWir sind auf eure Setups für ein reibungsloses Event angewiesen\, also bringt eure Setups mit! (jede Konsole und jeder Monitor geben je 1 gratis soft drink)\nEssen und Getränke von außerhalb in die Location zu bringen ist verboten!\nEssen und Trinken sind in der Location erhältlich (und unterstützen die Location und das Event) und Wasser ist für jeden Teilnehmer gratis an der Theke erhältlich! \nAnmeldeschluss ist 18. Oktober um 12:00\nTeamerstellung für Doubles endet 19. Oktober um 16:00\nWer bis dahin nicht angemeldet ist oder sein Team erstellt hat ist nicht im Bracket!\nLink zur Anmeldung
URL:https://www.meetxr.de/event/vr-smash-6/
LOCATION:VirtuaLounge\, Kleine Burg 15\, Braunschweig\, 38100\, Deutschland
CATEGORIES:play
ATTACH;FMTTYPE=image/jpeg:https://www.meetxr.de/wp-content/uploads/2018/08/VRSmash_5.jpg
END:VEVENT
END:VCALENDAR