BEGIN:VCALENDAR
VERSION:2.0
PRODID:-//meetXR - ECPv5.8.0//NONSGML v1.0//EN
CALSCALE:GREGORIAN
METHOD:PUBLISH
X-WR-CALNAME:meetXR
X-ORIGINAL-URL:https://www.meetxr.de
X-WR-CALDESC:Veranstaltungen für meetXR
BEGIN:VTIMEZONE
TZID:Europe/Berlin
BEGIN:DAYLIGHT
TZOFFSETFROM:+0100
TZOFFSETTO:+0200
TZNAME:CEST
DTSTART:20190331T010000
END:DAYLIGHT
BEGIN:STANDARD
TZOFFSETFROM:+0200
TZOFFSETTO:+0100
TZNAME:CET
DTSTART:20191027T010000
END:STANDARD
END:VTIMEZONE
BEGIN:VEVENT
DTSTART;TZID=Europe/Berlin:20190307T190000
DTEND;TZID=Europe/Berlin:20190307T220000
DTSTAMP:20260425T212228
CREATED:20190225T110220Z
LAST-MODIFIED:20190225T110220Z
UID:1281-1551985200-1551996000@www.meetxr.de
SUMMARY:VR Player 360
DESCRIPTION:Seit über 3 Jahren beschäftigen wir uns mit der Entwicklung von Virtual Reality Apps\, in meinem Vortrag will ich auf die Entwicklung des Marktes\, Einsatzmöglichkeiten und unsere eigene Perspektive eingehen. Des weiteren soll ein Blick hinter die technische Kulisse unseres VR-Editing Tools “PLAYER360” gegeben werden. \nTobias Sell ist Geschäftsführer – Softwareentwicklung der mobfish Gmbh\, die sich mit App Entwicklung\, Virtual Reality\, 360° Videos und Gamification beschäftigt. \nAnmeldung:\nEventbrite\nXing \nEine Veranstaltung des iJUG e.V.\, organisiert durch die JUG Ostfalen. \n 
URL:https://www.meetxr.de/event/vr-player-360/
LOCATION:fme AG\, Wolfenbütteler Straße 33\, Braunschweig\, 38102\, Deutschland
CATEGORIES:talk
ATTACH;FMTTYPE=image/jpeg:https://www.meetxr.de/wp-content/uploads/2019/02/2019-03-07_Player360.jpg
END:VEVENT
END:VCALENDAR