BEGIN:VCALENDAR
VERSION:2.0
PRODID:-//meetXR - ECPv5.8.0//NONSGML v1.0//EN
CALSCALE:GREGORIAN
METHOD:PUBLISH
X-WR-CALNAME:meetXR
X-ORIGINAL-URL:https://www.meetxr.de
X-WR-CALDESC:Veranstaltungen für meetXR
BEGIN:VTIMEZONE
TZID:Europe/Berlin
BEGIN:DAYLIGHT
TZOFFSETFROM:+0100
TZOFFSETTO:+0200
TZNAME:CEST
DTSTART:20180325T010000
END:DAYLIGHT
BEGIN:STANDARD
TZOFFSETFROM:+0200
TZOFFSETTO:+0100
TZNAME:CET
DTSTART:20181028T010000
END:STANDARD
END:VTIMEZONE
BEGIN:VEVENT
DTSTART;TZID=Europe/Berlin:20181114T093000
DTEND;TZID=Europe/Berlin:20181115T183000
DTSTAMP:20260425T222300
CREATED:20180816T135114Z
LAST-MODIFIED:20180816T135301Z
UID:192-1542187800-1542306600@www.meetxr.de
SUMMARY:VR NOW Con & Awards 2018
DESCRIPTION:ONE TICKET\, THREE EVENTS\nhttps://www.eventbrite.de/e/mediatech-con-ctpix18-vr-now-con-tickets-47166693851 \nThis year’s VR NOW Con & Awards is part of the newly formed MediaTech Con. MediaTech Con is the key convention for future media technologies and the business behind entertainment. Together with Changing the Picture – Technology Conference (CTPiX)\, we offer a common platform with pioneering talks and workshops within a two-day program in Potsdam-Babelsberg. For the price of one VR NOW Con & Awards ticket\, you will have access to three complemental conference formats on two days in one location. \nFB Event MediaTech Con: MediaTech Con\nFB Event CTPiX: Changing the Picture 2018 \n*** \nVR NOW Con & Awards – Europe’s premier conference for Immersive Media. Started in 2016 as a way to bring the international community of VR creatives\, business developers and technological masterminds to Berlin and Potsdam. \nThe Conference: The VR NOW Conference brings together an eclectic mix of exciting people from all over the world. International speakers give inspiring input on developments\, trends\, and emerging technologies. The goal is to show the world what is happening now in the VR\, AR\, MR and other realities. \nThe Awards: The VR NOW Award is the first European award dedicated to Virtual Reality experiences. We give away prizes for great achievements in four categories: Impact\, Industry\, Entertainment and Technology. The Grand Prize celebrates the best project of the year\, selected from all the nominees in the other categories. \nThe Exhibition: Get your hands on the newest developments\, experiments\, games and 360° movies in Virtual Reality\, try out new interfaces and gadgets. Experience VR as it is now. \nThe Workshops: Because we must never be too busy to learn. Get new insights\, improve your skills\, in hands-on workshops for beginners and experts. \n***\nTicket Prices \nEarly Bird: Business\n€359.00 \nEarly Bird: Conference\n€159.00 \nEarly Bird: Student\n€39.00 \nThe early bird offers end on September 30! \n*** \nSubscribe to our newsletter for exclusive discounts and be the first to receive updates: http://www.vrnowcon.io/#newsletter \nwww.vrnowcon.io\nhttps://twitter.com/vrnowcon
URL:https://www.meetxr.de/event/vr-now-con-awards-2018/
LOCATION:Studio Babelsberg\, August-Bebel-Straße 26-53\, Potsdamm\, 14482\, Deutschland
CATEGORIES:play,talk
ATTACH;FMTTYPE=image/jpeg:https://www.meetxr.de/wp-content/uploads/2018/08/VR_NowCon_2018.jpg
END:VEVENT
END:VCALENDAR