BEGIN:VCALENDAR
VERSION:2.0
PRODID:-//meetXR - ECPv5.8.0//NONSGML v1.0//EN
CALSCALE:GREGORIAN
METHOD:PUBLISH
X-WR-CALNAME:meetXR
X-ORIGINAL-URL:https://www.meetxr.de
X-WR-CALDESC:Veranstaltungen für meetXR
BEGIN:VTIMEZONE
TZID:Europe/Berlin
BEGIN:DAYLIGHT
TZOFFSETFROM:+0100
TZOFFSETTO:+0200
TZNAME:CEST
DTSTART:20190331T010000
END:DAYLIGHT
BEGIN:STANDARD
TZOFFSETFROM:+0200
TZOFFSETTO:+0100
TZNAME:CET
DTSTART:20191027T010000
END:STANDARD
END:VTIMEZONE
BEGIN:VEVENT
DTSTART;TZID=Europe/Berlin:20191128T190000
DTEND;TZID=Europe/Berlin:20191128T210000
DTSTAMP:20260426T013444
CREATED:20191111T165957Z
LAST-MODIFIED:20191111T165957Z
UID:2106-1574967600-1574974800@www.meetxr.de
SUMMARY:VR in Art: Refrakt Berlin
DESCRIPTION:Vortragsreihe zu Virtual und Augmented Reality\nDie im Wintersemester 2019/20 startende Vortrags- und Gesprächsreihe nimmt die Möglichkeiten in den Blick\, die sich aus den neuen Technologien für Künstler*innen und Gestalter*innen ergeben. Die eingeladenen Referent*innen spiegeln die Vielseitigkeit der Ansätze und Entwicklungen und widmen sich unterschiedlichen Aspekten von Virtual und Augmented Reality sowie Immersion in der aktuellen Kunst- und Designproduktion. \nVortrag von Alexander Govoni und Carla Streckwall (Refrakt\, Berlin)\nCarla Streckwall und Alexander Govoni arbeiten als Künstler*innenkollektiv Refrakt zusammen. Beide studierten Visuelle Kommunikation an der Universität der Künste Berlin (UdK). Ihre transmedialen Projekte bewegen sich an der Grenze von Kunst\, Design und Technologie. Sie arbeiten mit Augmented Reality (AR) und spielen mit den sich daraus ergebenen\, unterschiedlichen Wahrnehmungsebenen. 2015 haben sie die App Refrakt entwickelt\, die es ermöglicht\, analoge Kunstwerke digital zu transformieren. So konnten die Besucher*innen in der Ausstellung in der Gemäldegalerie Berlin ihr Smartphone vor ausgewählte Kunstwerke halten und erweckten dadurch weitere\, digitale Arbeiten zum Leben. Es ist eine digitale Intervention\, die bestehende Arbeiten in einen neuen Kontext setzt\, Details verstärkt\, Bezüge sichtbar macht\, die Arbeiten digital erweitert. Die Besucher*innen können die reale Erfahrung der Kunstwerke im Museum mit der virtuellen Erfahrung kombinieren – mixed reality im besten Sinne. Vor allem für die Kunstvermittlung ergeben sich daraus neue Möglichkeiten. Aber auch Künstler*innen bekommen dadurch die Möglichkeit\, sich in physischen Ausstellungen mit nicht-physischen Werken einzubringen.
URL:https://www.meetxr.de/event/vr-in-art-refrakt-berlin/
LOCATION:HFBK Hamburg\, Lerchenfeld 2\, Hamburg\, 22081\, Deutschland
CATEGORIES:talk
ATTACH;FMTTYPE=image/jpeg:https://www.meetxr.de/wp-content/uploads/2019/11/2019-11-28_VRVortragHFBK.jpg
END:VEVENT
END:VCALENDAR