BEGIN:VCALENDAR
VERSION:2.0
PRODID:-//meetXR - ECPv5.8.0//NONSGML v1.0//EN
CALSCALE:GREGORIAN
METHOD:PUBLISH
X-WR-CALNAME:meetXR
X-ORIGINAL-URL:https://www.meetxr.de
X-WR-CALDESC:Veranstaltungen für meetXR
BEGIN:VTIMEZONE
TZID:Europe/Berlin
BEGIN:DAYLIGHT
TZOFFSETFROM:+0100
TZOFFSETTO:+0200
TZNAME:CEST
DTSTART:20190331T010000
END:DAYLIGHT
BEGIN:STANDARD
TZOFFSETFROM:+0200
TZOFFSETTO:+0100
TZNAME:CET
DTSTART:20191027T010000
END:STANDARD
END:VTIMEZONE
BEGIN:VEVENT
DTSTART;TZID=Europe/Berlin:20191127T190000
DTEND;TZID=Europe/Berlin:20191127T220000
DTSTAMP:20260426T052615
CREATED:20191111T162825Z
LAST-MODIFIED:20191111T162825Z
UID:2082-1574881200-1574892000@www.meetxr.de
SUMMARY:VR Berlin Meetup #35 at the MD.H
DESCRIPTION:Save the date! The next VR Berlin Meetup is on the horizon\, once again at the large spaces of the MD.H University near Tiergarten. As always there will be talks\, demos\, networking and free drinks sponsored by Caseking. \nThe program will be announced soon. \nEveryone is welcome to show their project – we love to see your product or experience. Please get in touch with us one week before the event. \nIf you would like to volunteer and be part of the team during the evening we are happy to hear from you. \nWhen you attend the event\, you agree to this code of conduct:\nhttp://berlincodeofconduct.org/
URL:https://www.meetxr.de/event/vr-berlin-meetup-35-at-the-md-h/
LOCATION:Mediadesign Hochschule (MD.H) Berlin\, Franklinstraße 28-29\, Berlin\, 10587\, Deutschland
CATEGORIES:talk
ATTACH;FMTTYPE=image/png:https://www.meetxr.de/wp-content/uploads/2018/08/2018-08-29_VRBLN.png
END:VEVENT
END:VCALENDAR