BEGIN:VCALENDAR
VERSION:2.0
PRODID:-//meetXR - ECPv5.8.0//NONSGML v1.0//EN
CALSCALE:GREGORIAN
METHOD:PUBLISH
X-WR-CALNAME:meetXR
X-ORIGINAL-URL:https://www.meetxr.de
X-WR-CALDESC:Veranstaltungen für meetXR
BEGIN:VTIMEZONE
TZID:Europe/Berlin
BEGIN:DAYLIGHT
TZOFFSETFROM:+0100
TZOFFSETTO:+0200
TZNAME:CEST
DTSTART:20180325T010000
END:DAYLIGHT
BEGIN:STANDARD
TZOFFSETFROM:+0200
TZOFFSETTO:+0100
TZNAME:CET
DTSTART:20181028T010000
END:STANDARD
END:VTIMEZONE
BEGIN:VEVENT
DTSTART;TZID=Europe/Berlin:20180912T180000
DTEND;TZID=Europe/Berlin:20180912T210000
DTSTAMP:20260425T224821
CREATED:20180905T084728Z
LAST-MODIFIED:20180905T084728Z
UID:674-1536775200-1536786000@www.meetxr.de
SUMMARY:VR/AR/MR/XR Vernetzungstreffen / Auftakt zu regelmäßigen Meetups
DESCRIPTION:Zur Digitalen Woche Kiel ist es nun so weit: Die Meetup-Gruppe startet nun mit dieser Auftaktveranstaltung durch! Es folgen dann alle 1-2 Monate weitere Meetups.\nZum letzten Webmontag und zum Barcamp gab es schon mal etwas zum Aufwärmen\, falls man vom Termin schon wußte\, und bekannter machen des Termins.\nBitte helft auch mit\, den Termin zu verbreiten – bitte sprecht/twittert/etc. darüber! \nTermin/Ort/Anmeldung:\nTermin: Mittwoch\, 12.09.18\,\n18:00 bis ca. 21:00 (danach noch Networking)\nOrt: starterkitchen.de\, Kuhnkestraße 6\, 24118 Kiel\nKarte: https://osm.org/go/0HsaSSvl–?m=\nEintritt: kostenlos.\nAnmeldung: Meldet euch bitte über Meetup an! Das ist zwar nicht absolut notwendig\, falls aber so viele kommen\, daß es Platzprobleme geben sollte\, habt ihr damit eine Eintrittskarte. Außerdem können euch andere Teilnehmer dann leichter wiederfinden und Vernetzung ist ja schließlich Ziel! \nAblauf:\n1. Hauptsächlich wird es bis zu 6 Minuten lange Mini-Vorträge geben.\n2. Da die Vernetzung im Vordergrund stehen soll und alle Vorträge am Stück möglicherweise etwas anstrengend wären\, gibt es zwischendurch eine längere Pause\, wo man sich austauschen kann oder sich Demos/Experiences/o.ä. ausprobieren kann.\n3. Am Ende kann man nochmal networken\, dies wird dann nicht auf den Endtermin von ca. 21 Uhr begrenzt sein. \nBeteiligung:\n1. Wer etwas hat\, das gezeigt oder über das berichtet werden kann\, sollte das möglichst auch tun; ca. 6 min. sind geplant\, kürzer ist auch in Ordnung!\nEs muß sich nicht um ein (fertiges oder unfertiges) Projekt handeln\, man kann z.B. auch über Frameworks\, Standards\, Geräte oder Probleme berichten\, solange das zum Networking irgendwie beiträgt.\n2. Wenn man etwas beitragen möchte\, wäre eine Rückmeldung nett zur besseren Planung!\n3. Wenn man Hardware (mit Anwendung) zum Ausprobieren mitbringen kann/möchte: Das wäre schön\, in dem Fall ist aber eine Absprache notwendig\, weil der Platz begrenzt ist. \nBis dann und viele Grüße! Frank \nKontakt für Fragen\, Anregungen\, etc.:\nFrank Bartels\, Tel: 0431 335963\, Mail: info+vr@frank-bartels-kiel.de\nMan darf mich gerne duzen!\nÜberblick: http://frank-bartels-kiel.de/\nTwitter: https://twitter.com/frankbki\nOffiziell: https://digitalewochekiel.de/programm/vr-ar-mr-xr-vernetzungstreffen/ \nQuerverweis: Prototyping Week (PTW)\nDas Meetup liegt übrigens auch in der PTW des Opencampus\, so daß Projekte\, die dort aktiv sind und etwas mit dem Themenbereich zu tun haben\, ihren Pitch (als work in progress) gleich auch in unserer Auftaktveranstaltung hier mit vorstellen können.\nFalls Starthilfe benötigt wird: es gibt bei der PTW auch etwas Unterstützung zum Prototypen von VR/AR Anwendungen (u.a. kleine Einführung von mir in das Web-Framework A-Frame\, das ganz einfache Sachen sogar ohne Programmieren ermöglicht\, mit Javascript geht aber natürlich mehr).\nhttps://digitalewochekiel.de/programm/prototypingweek-ptwdiwokiel/\nBeide Veranstaltungen sind u.a. auch hier im Übersichtsplan:\nhttps://www.diwish.de/files/diwish/veranstaltungen/2018/%C3%9Cbersicht_DiWoKiel18.pdf
URL:https://www.meetxr.de/event/vr-ar-mr-xr-vernetzungstreffen-auftakt-zu-regelmaessigen-meetups/
LOCATION:starterkitchen.de\, Kuhnkestraße 6\, Kiel\, 24118\, Deutschland
CATEGORIES:talk
ATTACH;FMTTYPE=image/jpeg:https://www.meetxr.de/wp-content/uploads/2018/09/674_image_highres_474335642.jpeg
END:VEVENT
END:VCALENDAR