BEGIN:VCALENDAR
VERSION:2.0
PRODID:-//meetXR - ECPv5.8.0//NONSGML v1.0//EN
CALSCALE:GREGORIAN
METHOD:PUBLISH
X-WR-CALNAME:meetXR
X-ORIGINAL-URL:https://www.meetxr.de
X-WR-CALDESC:Veranstaltungen für meetXR
BEGIN:VTIMEZONE
TZID:Europe/Berlin
BEGIN:DAYLIGHT
TZOFFSETFROM:+0100
TZOFFSETTO:+0200
TZNAME:CEST
DTSTART:20180325T010000
END:DAYLIGHT
BEGIN:STANDARD
TZOFFSETFROM:+0200
TZOFFSETTO:+0100
TZNAME:CET
DTSTART:20181028T010000
END:STANDARD
END:VTIMEZONE
BEGIN:VEVENT
DTSTART;TZID=Europe/Berlin:20181203T190000
DTEND;TZID=Europe/Berlin:20181203T220000
DTSTAMP:20260426T024548
CREATED:20181121T125119Z
LAST-MODIFIED:20181121T125119Z
UID:860-1543863600-1543874400@www.meetxr.de
SUMMARY:VR/AR – How next realities will impact us
DESCRIPTION:Brille auf – Welt an. Virtual Reality ist auf dem Vormarsch. Immer mehr Unternehmen nutzen VR\, AR und MR\, um Produkte erlebbar zu machen. Durch den Einsatz von virtuellen Welten lässt sich ungewohnte Nähe und maximale Empathie erzeugen. In Zusammenarbeit mit Experten von Next Reality und der HAW Hamburg werden wir erfahren\, was hinter VR steckt und welches Potential das neue Medium mit sich bringt. \nDazu laden wir Euch herzlich ein. \nWann: Montag\, den 3. Dezember 2018\, 19 Uhr (Einlass ab 18.30 Uhr)\nWo: Hochschule für Angewandte Wissenschaften Hamburg\, Finkenau 35\, 22081 Hamburg \nEiner unserer Referenten des Abends ist Simon Graff. Er startete als leidenschaftlicher VR-Enthusiast mit dem DK1 von Oculus in die virtuelle Realität. Jahre später betreut er die VR\, AR und 360° Projekte der Hamburger Medienagentur ROBA Impact\, tourt zusätzlich selbstständig als Speaker und Berater durchs Land — abseits davon engagiert er sich ehrenamtlich im Vorstand der Standortinitiative für immersive Medien der Hansestadt Hamburg: nextReality.Hamburg e.V. \nVortragstitel: „Grasping new realities — XR prototyping“ \n  \nWeitere Referenten werden in Kürze bekannt gegeben. \nNach der Veranstaltung ist wieder reichlich Zeit zum Networken mit Referenten und Kollegen bei Drinks und Fingerfood. \nFür DialogNatives ist die Veranstaltung kostenlos. Nichtmitglieder können sich am Abend noch als DialogNative registrieren. \nZur Anmeldung \nWir freuen uns auf Euch. \nEuer\nDialogNatives Board
URL:https://www.meetxr.de/event/vr-ar-how-next-realities-will-impact-us/
LOCATION:HAW Hamburg  – Fakultät DMI\, Finkenau 35\, Hamburg\, 22081\, Deutschland
CATEGORIES:talk
ATTACH;FMTTYPE=image/jpeg:https://www.meetxr.de/wp-content/uploads/2018/11/2018-12-03_nextRealityDialogNatives.jpg
END:VEVENT
END:VCALENDAR