BEGIN:VCALENDAR
VERSION:2.0
PRODID:-//meetXR - ECPv5.8.0//NONSGML v1.0//EN
CALSCALE:GREGORIAN
METHOD:PUBLISH
X-WR-CALNAME:meetXR
X-ORIGINAL-URL:https://www.meetxr.de
X-WR-CALDESC:Veranstaltungen für meetXR
BEGIN:VTIMEZONE
TZID:Europe/Berlin
BEGIN:DAYLIGHT
TZOFFSETFROM:+0100
TZOFFSETTO:+0200
TZNAME:CEST
DTSTART:20200329T010000
END:DAYLIGHT
BEGIN:STANDARD
TZOFFSETFROM:+0200
TZOFFSETTO:+0100
TZNAME:CET
DTSTART:20201025T010000
END:STANDARD
END:VTIMEZONE
BEGIN:VEVENT
DTSTART;TZID=Europe/Berlin:20200116T190000
DTEND;TZID=Europe/Berlin:20200116T210000
DTSTAMP:20260425T184752
CREATED:20191202T224319Z
LAST-MODIFIED:20191202T224319Z
UID:2253-1579201200-1579208400@www.meetxr.de
SUMMARY:VR / AR Hardware Hands-on
DESCRIPTION:XR Bavaria ist zurück im neuen Jahr und wir starten gleich voll durch.\nWir geben euch am 16.1.2020 die Gelegenheit VR und AR Hardware und 360° Kameras live zu erleben und zu testen. \nUnsere Gäste\nMit am Start sind die Hardware-Experten von Schenker und präsentieren die neuesten VR-Brillen und VR-Hardware. Mit dabei auch das Varjo VR-Headset\, das wohl schärfste Headset auf dem Markt. https://www.schenker-tech.de \nBjörn Schwertfeger von den AR-Experts gibt Einblicke\, worauf bei der Wahl von AR-Headsets im industriellen Bereich zu achten ist und bringt seine Hardware mit. https://www.ar-experts.de \nClarence Dadson von XR Bavaria gibt euch einen Einblick in die Welt der 360° Kameras\, mit einer Auswahl an 360° Actionsportskameras sowie professionellen 3D 360° Kameras. \n  \nWeiterhin freuen wir uns aufs Netzwerken mit der XR Community im schicken Ambiente der neuen Coworking- und Eventlocation Timespaces in Schwabing. https://www.timespaces.de. \nWie immer habt ihr Gelegenheit zum Austausch und Drinks mit aufregenden Leuten aus der immer weiter wachsenden XR Community.\nWir freuen uns auf euch!
URL:https://www.meetxr.de/event/vr-ar-hardware-hands-on/
LOCATION:Timespaces\, Leopoldstraße 204a\, München\, 80804\, Deutschland
CATEGORIES:talk
ATTACH;FMTTYPE=image/jpeg:https://www.meetxr.de/wp-content/uploads/2019/12/2020-01-16_XRBavaria.jpeg
ORGANIZER;CN="XR%20Bavaria":MAILTO:info@xrbavaria.de
END:VEVENT
END:VCALENDAR