BEGIN:VCALENDAR
VERSION:2.0
PRODID:-//meetXR - ECPv5.8.0//NONSGML v1.0//EN
CALSCALE:GREGORIAN
METHOD:PUBLISH
X-WR-CALNAME:meetXR
X-ORIGINAL-URL:https://www.meetxr.de
X-WR-CALDESC:Veranstaltungen für meetXR
BEGIN:VTIMEZONE
TZID:Europe/Berlin
BEGIN:DAYLIGHT
TZOFFSETFROM:+0100
TZOFFSETTO:+0200
TZNAME:CEST
DTSTART:20210328T010000
END:DAYLIGHT
BEGIN:STANDARD
TZOFFSETFROM:+0200
TZOFFSETTO:+0100
TZNAME:CET
DTSTART:20211031T010000
END:STANDARD
END:VTIMEZONE
BEGIN:VEVENT
DTSTART;TZID=Europe/Berlin:20210922T173000
DTEND;TZID=Europe/Berlin:20210922T183000
DTSTAMP:20260425T222300
CREATED:20210921T154344Z
LAST-MODIFIED:20220114T132111Z
UID:3231-1632331800-1632335400@www.meetxr.de
SUMMARY:Volumetric Capture for Empathy
DESCRIPTION:Join us on September 22nd at 11:30 AM EDT for a discussion on volumetric capture for empathy with @JoanneAska. \nVisit https://xrwomen.com/attend to learn how to join us in @immersiveLRN iLRN Virbela Campus.
URL:https://www.meetxr.de/event/volumetric-capture-for-empathy/
LOCATION:iLRN Virtual Campus\, iLRN Virtual Campus
CATEGORIES:talk
ATTACH;FMTTYPE=image/jpeg:https://www.meetxr.de/wp-content/uploads/2021/09/2021-09-22_VolumetricCaptureForEmpathy.jpg
END:VEVENT
END:VCALENDAR