BEGIN:VCALENDAR
VERSION:2.0
PRODID:-//meetXR - ECPv5.8.0//NONSGML v1.0//EN
CALSCALE:GREGORIAN
METHOD:PUBLISH
X-WR-CALNAME:meetXR
X-ORIGINAL-URL:https://www.meetxr.de
X-WR-CALDESC:Veranstaltungen für meetXR
BEGIN:VTIMEZONE
TZID:Europe/Berlin
BEGIN:DAYLIGHT
TZOFFSETFROM:+0100
TZOFFSETTO:+0200
TZNAME:CEST
DTSTART:20200329T010000
END:DAYLIGHT
BEGIN:STANDARD
TZOFFSETFROM:+0200
TZOFFSETTO:+0100
TZNAME:CET
DTSTART:20201025T010000
END:STANDARD
END:VTIMEZONE
BEGIN:VEVENT
DTSTART;TZID=Europe/Berlin:20200618T173000
DTEND;TZID=Europe/Berlin:20200618T193000
DTSTAMP:20260425T211503
CREATED:20200608T163833Z
LAST-MODIFIED:20200608T163833Z
UID:2640-1592501400-1592508600@www.meetxr.de
SUMMARY:Virtuelle Rundgänge - Software - Hardwarevergleich und Tipps
DESCRIPTION:Virtuelle Rundgänge und Panotouren haben durch die Restriktionen der Coronakrise einen neuen Stellenwert für die Präsentation von Unternehmen und Immobilien bekommen. Wir geben einen Überblick über die Software und Hardware zur Erstellung dieser Touren und geben euch einige Profitipps. \nMit dabei sind 360 Foto-Experte Johannes Müller\, von Direkter Kontakt und Clarence Dadson \nWeiterhin zeigt uns Oliver Wöhler\, Sales Executive EMEA bei Imeve\, wie Video Runggänge mit 360° Livestream realisierbar sind. \nhttps://us02web.zoom.us/j/83193144869?pwd=OElkNFgxOHdQaC9jYnI2LzR1d3dJUT09 \nIm Anschluss an unser Zoom Meetup Events am 18.06 treffen wir uns auf der Social VR Platform Engage VR.\nLadet euch dazu die Engage VR Software im Vorfeld runter und erstellt einen Account und Avatar. Das Passwort für Engage ist „xrb“.\nIhr könnt entweder über VR Brillen oder einfach über den PC teilnehmen.\nhttps://app.engagevr.io/events/ZL42Z/share \nWir freuen uns auf euch.
URL:https://www.meetxr.de/event/virtuelle-rundgaenge-software-hardwarevergleich-und-tipps/
LOCATION:Zoom Meeting\, Zoom
CATEGORIES:talk
ATTACH;FMTTYPE=image/jpeg:https://www.meetxr.de/wp-content/uploads/2020/06/2020-06-18_VirtuelleRundgaenge.jpeg
END:VEVENT
END:VCALENDAR